Workbook

Sheet Calculadora
B2: Independencia financiera | D2: Plantilla de skilio.com/calculadoras/independencia-financiera/
B3: A qué edad podrías vivir de tus inversiones.
B4: Cambia las celdas naranjas. Todo lo demás se calcula solo.
B6: Tus datos
B7: Tu edad | C7: 36
B8: Lo que ingresas al año (neto) | C8: 25000 | D8: Lo que te llega a la cuenta en un año, ya sin impuestos.
B9: Lo que gastas al año | C9: 15000 | D9: Si lo sabes al mes, multiplícalo por 12.
B10: Dinero que ya tienes invertido o ahorrado | C10: 20000
B11: Rentabilidad anual esperada | C11: 0.05 | D11: Antes de la inflación. Un 5 % es una cifra prudente.
B12: Inflación anual | C12: 0.02 | D12: Cuánto suben tus gastos cada año.
B13: Subida anual de tus ingresos | C13: 0.01
B14: Impuesto sobre las ganancias | C14: 0 | D14: Se resta de lo que ganan tus inversiones cada año.
B15: Que el dinero te dure hasta los | C15: 95
B16: Cuándo consideras que ya eres independiente | C16: Cuando el dinero me dure toda la vida
B17: Con la regla: parte de tu dinero que sacarías al año | C17: 0.04
B19: Opcional: un gasto y un ingreso de unos años (con precios de hoy)
B20: Gasto extra al año | C20: 0 | D20: Por ejemplo, los estudios de tus hijos.
B21: Desde los (años) | C21: 45
B22: Hasta los (años) | C22: 55
B23: Ingreso extra al año | C23: 0 | D23: Por ejemplo, la pensión pública o un alquiler.
B24: Desde los (años) | C24: 67
B25: Hasta los (años) | C25: 95
B27: Datos que se calculan
B28: Años que calcula la plantilla | C28: =MAX(0,ROUND($C$15-$C$7,0)) -> 59
B29: Rentabilidad neta de impuestos | C29: =IF($C$11>0,$C$11*(1-$C$14),$C$11) -> 0.05
B30: Años hasta que lo consigues | C30: =IFERROR(MATCH("Sí",'Año a año'!$H$7:$H$111,0)-1,"No llegas") -> 26
B32: Resultados
B33: Podrías vivir de tus inversiones a los | C33: =IF(ISNUMBER($C$30),$C$7+$C$30&" años","No antes de los "&$C$15) -> 62 años
B34: Dinero que habrás reunido (en dinero de hoy) | C34: =IF(ISNUMBER($C$30),INDEX('Año a año'!$F$7:$F$111,$C$30+1)/(1+$C$12)^$C$30,"") -> 324334.01
B35: Dinero que habrás reunido (en dinero de entonces) | C35: =IF(ISNUMBER($C$30),INDEX('Año a año'!$F$7:$F$111,$C$30+1),"") -> 542746.4
B36: Ahorras al año | C36: =$C$8-$C$9 -> 10000
B37: Tu tasa de ahorro | C37: =IF($C$8>0,($C$8-$C$9)/$C$8,"") -> 0.4
B38: Lo que pide la regla del 4 % (25 veces tus gastos) | C38: =$C$9/0.04 -> 375000
B39: Tus gastos al año cuando lo consigas (dinero de entonces) | C39: =IF(ISNUMBER($C$30),INDEX('Año a año'!$D$7:$D$111,$C$30+1),"") -> 25101.272
B40: Te quedaría al final (dinero de hoy) | C40: =IF(ISNUMBER($C$30),INDEX('Año a año'!$K$7:$K$111,$C$28),"") -> 2706.065

Sheet Año a año
B2: Año a año
B3: Columnas F-H: si sigues trabajando. Columnas I-K: tu camino (trabajas hasta que lo consigues y después vives de tus inversiones).
B4: Plantilla de skilio.com/calculadoras/independencia-financiera/
A6: Año | B6: Edad | C6: Ingresos del trabajo | D6: Gastos | E6: Ingresos extra | F6: Capital al empezar el año (si sigues trabajando) | G6: Capital que necesitas para dejar de trabajar | H6: ¿Puedes dejarlo? | I6: Capital al empezar el año (tu camino) | J6: Capital al acabar el año (tu camino) | K6: Al acabar el año, en dinero de hoy
A7: =IF(0<'Calculadora'!$C$28,0,"") -> 0 | B7: =IF(A7="","",'Calculadora'!$C$7+A7) -> 36 | C7: =IF(A7="","",'Calculadora'!$C$8*(1+'Calculadora'!$C$13)^A7) -> 25000 | D7: =IF(A7="","",('Calculadora'!$C$9+IF(AND(B7>='Calculadora'!$C$21,B7<='Calculadora'!$C$22),'Calculadora'!$C$20,0))*(1+'Calculadora'!$C$12)^A7) -> 15000 | E7: =IF(A7="","",IF(AND(B7>='Calculadora'!$C$24,B7<='Calculadora'!$C$25),'Calculadora'!$C$23,0)*(1+'Calculadora'!$C$12)^A7) -> 0 | F7: =IF(A7="","",'Calculadora'!$C$10) -> 20000 | G7: =IF(A7="","",D7-E7+IF(A8="",0,MAX(0,G8/(1+'Calculadora'!$C$29)))) -> 430070.59 | H7: =IF(A7="","",IF('Calculadora'!$C$16="Con la regla del 4 %",IF(F7*'Calculadora'!$C$17>=D7-E7-1E-9,"Sí","No"),IF(F7>=G7-0.005,"Sí","No"))) -> No | I7: =IF(A7="","",'Calculadora'!$C$10) -> 20000 | J7: =IF(A7="","",IF(A7<IF(ISNUMBER('Calculadora'!$C$30),'Calculadora'!$C$30,'Calculadora'!$C$28),I7*(1+'Calculadora'!$C$29)+C7+E7-D7,MAX(0,I7-D7+E7)*(1+'Calculadora'!$C$29))) -> 31000 | K7: =IF(A7="","",J7/(1+'Calculadora'!$C$12)^(A7+1)) -> 30392.157
A8: =IF(1<'Calculadora'!$C$28,1,"") -> 1 | B8: =IF(A8="","",'Calculadora'!$C$7+A8) -> 37 | C8: =IF(A8="","",'Calculadora'!$C$8*(1+'Calculadora'!$C$13)^A8) -> 25250 | D8: =IF(A8="","",('Calculadora'!$C$9+IF(AND(B8>='Calculadora'!$C$21,B8<='Calculadora'!$C$22),'Calculadora'!$C$20,0))*(1+'Calculadora'!$C$12)^A8) -> 15300 | E8: =IF(A8="","",IF(AND(B8>='Calculadora'!$C$24,B8<='Calculadora'!$C$25),'Calculadora'!$C$23,0)*(1+'Calculadora'!$C$12)^A8) -> 0 | F8: =IF(A8="","",F7*(1+'Calculadora'!$C$29)+C7+E7-D7) -> 31000 | G8: =IF(A8="","",D8-E8+IF(A9="",0,MAX(0,G9/(1+'Calculadora'!$C$29)))) -> 435824.12 | H8: =IF(A8="","",IF('Calculadora'!$C$16="Con la regla del 4 %",IF(F8*'Calculadora'!$C$17>=D8-E8-1E-9,"Sí","No"),IF(F8>=G8-0.005,"Sí","No"))) -> No | I8: =IF(A8="","",J7) -> 31000 | J8: =IF(A8="","",IF(A8<IF(ISNUMBER('Calculadora'!$C$30),'Calculadora'!$C$30,'Calculadora'!$C$28),I8*(1+'Calculadora'!$C$29)+C8+E8-D8,MAX(0,I8-D8+E8)*(1+'Calculadora'!$C$29))) -> 42500 | K8: =IF(A8="","",J8/(1+'Calculadora'!$C$12)^(A8+1)) -> 40849.673
A9: =IF(2<'Calculadora'!$C$28,2,"") -> 2 | B9: =IF(A9="","",'Calculadora'!$C$7+A9) -> 38 | C9: =IF(A9="","",'Calculadora'!$C$8*(1+'Calculadora'!$C$13)^A9) -> 25502.5 | D9: =IF(A9="","",('Calculadora'!$C$9+IF(AND(B9>='Calculadora'!$C$21,B9<='Calculadora'!$C$22),'Calculadora'!$C$20,0))*(1+'Calculadora'!$C$12)^A9) -> 15606 | E9: =IF(A9="","",IF(AND(B9>='Calculadora'!$C$24,B9<='Calculadora'!$C$25),'Calculadora'!$C$23,0)*(1+'Calculadora'!$C$12)^A9) -> 0 | F9: =IF(A9="","",F8*(1+'Calculadora'!$C$29)+C8+E8-D8) -> 42500 | G9: =IF(A9="","",D9-E9+IF(A10="",0,MAX(0,G10/(1+'Calculadora'!$C$29)))) -> 441550.32 | H9: =IF(A9="","",IF('Calculadora'!$C$16="Con la regla del 4 %",IF(F9*'Calculadora'!$C$17>=D9-E9-1E-9,"Sí","No"),IF(F9>=G9-0.005,"Sí","No"))) -> No | I9: =IF(A9="","",J8) -> 42500 | J9: =IF(A9="","",IF(A9<IF(ISNUMBER('Calculadora'!$C$30),'Calculadora'!$C$30,'Calculadora'!$C$28),I9*(1+'Calculadora'!$C$29)+C9+E9-D9,MAX(0,I9-D9+E9)*(1+'Calculadora'!$C$29))) -> 54521.5 | K9: =IF(A9="","",J9/(1+'Calculadora'!$C$12)^(A9+1)) -> 51376.827
A10: =IF(3<'Calculadora'!$C$28,3,"") -> 3 | B10: =IF(A10="","",'Calculadora'!$C$7+A10) -> 39 | C10: =IF(A10="","",'Calculadora'!$C$8*(1+'Calculadora'!$C$13)^A10) -> 25757.525 | D10: =IF(A10="","",('Calculadora'!$C$9+IF(AND(B10>='Calculadora'!$C$21,B10<='Calculadora'!$C$22),'Calculadora'!$C$20,0))*(1+'Calculadora'!$C$12)^A10) -> 15918.12 | E10: =IF(A10="","",IF(AND(B10>='Calculadora'!$C$24,B10<='Calculadora'!$C$25),'Calculadora'!$C$23,0)*(1+'Calculadora'!$C$12)^A10) -> 0 | F10: =IF(A10="","",F9*(1+'Calculadora'!$C$29)+C9+E9-D9) -> 54521.5 | G10: =IF(A10="","",D10-E10+IF(A11="",0,MAX(0,G11/(1+'Calculadora'!$C$29)))) -> 447241.54 | H10: =IF(A10="","",IF('Calculadora'!$C$16="Con la regla del 4 %",IF(F10*'Calculadora'!$C$17>=D10-E10-1E-9,"Sí","No"),IF(F10>=G10-0.005,"Sí","No"))) -> No | I10: =IF(A10="","",J9) -> 54521.5 | J10: =IF(A10="","",IF(A10<IF(ISNUMBER('Calculadora'!$C$30),'Calculadora'!$C$30,'Calculadora'!$C$28),I10*(1+'Calculadora'!$C$29)+C10+E10-D10,MAX(0,I10-D10+E10)*(1+'Calculadora'!$C$29))) -> 67086.98 | K10: =IF(A10="","",J10/(1+'Calculadora'!$C$12)^(A10+1)) -> 61978
A11: =IF(4<'Calculadora'!$C$28,4,"") -> 4 | B11: =IF(A11="","",'Calculadora'!$C$7+A11) -> 40 | C11: =IF(A11="","",'Calculadora'!$C$8*(1+'Calculadora'!$C$13)^A11) -> 26015.1 | D11: =IF(A11="","",('Calculadora'!$C$9+IF(AND(B11>='Calculadora'!$C$21,B11<='Calculadora'!$C$22),'Calculadora'!$C$20,0))*(1+'Calculadora'!$C$12)^A11) -> 16236.482 | E11: =IF(A11="","",IF(AND(B11>='Calculadora'!$C$24,B11<='Calculadora'!$C$25),'Calculadora'!$C$23,0)*(1+'Calculadora'!$C$12)^A11) -> 0 | F11: =IF(A11="","",F10*(1+'Calculadora'!$C$29)+C10+E10-D10) -> 67086.98 | G11: =IF(A11="","",D11-E11+IF(A12="",0,MAX(0,G12/(1+'Calculadora'!$C$29)))) -> 452889.59 | H11: =IF(A11="","",IF('Calculadora'!$C$16="Con la regla del 4 %",IF(F11*'Calculadora'!$C$17>=D11-E11-1E-9,"Sí","No"),IF(F11>=G11-0.005,"Sí","No"))) -> No | I11: =IF(A11="","",J10) -> 67086.98 | J11: =IF(A11="","",IF(A11<IF(ISNUMBER('Calculadora'!$C$30),'Calculadora'!$C$30,'Calculadora'!$C$28),I11*(1+'Calculadora'!$C$29)+C11+E11-D11,MAX(0,I11-D11+E11)*(1+'Calculadora'!$C$29))) -> 80219.947 | K11: =IF(A11="","",J11/(1+'Calculadora'!$C$12)^(A11+1)) -> 72657.677
A12: =IF(5<'Calculadora'!$C$28,5,"") -> 5 | B12: =IF(A12="","",'Calculadora'!$C$7+A12) -> 41 | C12: =IF(A12="","",'Calculadora'!$C$8*(1+'Calculadora'!$C$13)^A12) -> 26275.251 | D12: =IF(A12="","",('Calculadora'!$C$9+IF(AND(B12>='Calculadora'!$C$21,B12<='Calculadora'!$C$22),'Calculadora'!$C$20,0))*(1+'Calculadora'!$C$12)^A12) -> 16561.212 | E12: =IF(A12="","",IF(AND(B12>='Calculadora'!$C$24,B12<='Calculadora'!$C$25),'Calculadora'!$C$23,0)*(1+'Calculadora'!$C$12)^A12) -> 0 | F12: =IF(A12="","",F11*(1+'Calculadora'!$C$29)+C11+E11-D11) -> 80219.947 | G12: =IF(A12="","",D12-E12+IF(A13="",0,MAX(0,G13/(1+'Calculadora'!$C$29)))) -> 458485.76 | H12: =IF(A12="","",IF('Calculadora'!$C$16="Con la regla del 4 %",IF(F12*'Calculadora'!$C$17>=D12-E12-1E-9,"Sí","No"),IF(F12>=G12-0.005,"Sí","No"))) -> No | I12: =IF(A12="","",J11) -> 80219.947 | J12: =IF(A12="","",IF(A12<IF(ISNUMBER('Calculadora'!$C$30),'Calculadora'!$C$30,'Calculadora'!$C$28),I12*(1+'Calculadora'!$C$29)+C12+E12-D12,MAX(0,I12-D12+E12)*(1+'Calculadora'!$C$29))) -> 93944.983 | K12: =IF(A12="","",J12/(1+'Calculadora'!$C$12)^(A12+1)) -> 83420.457
A13: =IF(6<'Calculadora'!$C$28,6,"") -> 6 | B13: =IF(A13="","",'Calculadora'!$C$7+A13) -> 42 | C13: =IF(A13="","",'Calculadora'!$C$8*(1+'Calculadora'!$C$13)^A13) -> 26538.004 | D13: =IF(A13="","",('Calculadora'!$C$9+IF(AND(B13>='Calculadora'!$C$21,B13<='Calculadora'!$C$22),'Calculadora'!$C$20,0))*(1+'Calculadora'!$C$12)^A13) -> 16892.436 | E13: =IF(A13="","",IF(AND(B13>='Calculadora'!$C$24,B13<='Calculadora'!$C$25),'Calculadora'!$C$23,0)*(1+'Calculadora'!$C$12)^A13) -> 0 | F13: =IF(A13="","",F12*(1+'Calculadora'!$C$29)+C12+E12-D12) -> 93944.983 | G13: =IF(A13="","",D13-E13+IF(A14="",0,MAX(0,G14/(1+'Calculadora'!$C$29)))) -> 464020.78 | H13: =IF(A13="","",IF('Calculadora'!$C$16="Con la regla del 4 %",IF(F13*'Calculadora'!$C$17>=D13-E13-1E-9,"Sí","No"),IF(F13>=G13-0.005,"Sí","No"))) -> No | I13: =IF(A13="","",J12) -> 93944.983 | J13: =IF(A13="","",IF(A13<IF(ISNUMBER('Calculadora'!$C$30),'Calculadora'!$C$30,'Calculadora'!$C$28),I13*(1+'Calculadora'!$C$29)+C13+E13-D13,MAX(0,I13-D13+E13)*(1+'Calculadora'!$C$29))) -> 108287.8 | K13: =IF(A13="","",J13/(1+'Calculadora'!$C$12)^(A13+1)) -> 94271.047
A14: =IF(7<'Calculadora'!$C$28,7,"") -> 7 | B14: =IF(A14="","",'Calculadora'!$C$7+A14) -> 43 | C14: =IF(A14="","",'Calculadora'!$C$8*(1+'Calculadora'!$C$13)^A14) -> 26803.384 | D14: =IF(A14="","",('Calculadora'!$C$9+IF(AND(B14>='Calculadora'!$C$21,B14<='Calculadora'!$C$22),'Calculadora'!$C$20,0))*(1+'Calculadora'!$C$12)^A14) -> 17230.285 | E14: =IF(A14="","",IF(AND(B14>='Calculadora'!$C$24,B14<='Calculadora'!$C$25),'Calculadora'!$C$23,0)*(1+'Calculadora'!$C$12)^A14) -> 0 | F14: =IF(A14="","",F13*(1+'Calculadora'!$C$29)+C13+E13-D13) -> 108287.8 | G14: =IF(A14="","",D14-E14+IF(A15="",0,MAX(0,G15/(1+'Calculadora'!$C$29)))) -> 469484.76 | H14: =IF(A14="","",IF('Calculadora'!$C$16="Con la regla del 4 %",IF(F14*'Calculadora'!$C$17>=D14-E14-1E-9,"Sí","No"),IF(F14>=G14-0.005,"Sí","No"))) -> No | I14: =IF(A14="","",J13) -> 108287.8 | J14: =IF(A14="","",IF(A14<IF(ISNUMBER('Calculadora'!$C$30),'Calculadora'!$C$30,'Calculadora'!$C$28),I14*(1+'Calculadora'!$C$29)+C14+E14-D14,MAX(0,I14-D14+E14)*(1+'Calculadora'!$C$29))) -> 123275.29 | K14: =IF(A14="","",J14/(1+'Calculadora'!$C$12)^(A14+1)) -> 105214.27
A15: =IF(8<'Calculadora'!$C$28,8,"") -> 8 | B15: =IF(A15="","",'Calculadora'!$C$7+A15) -> 44 | C15: =IF(A15="","",'Calculadora'!$C$8*(1+'Calculadora'!$C$13)^A15) -> 27071.418 | D15: =IF(A15="","",('Calculadora'!$C$9+IF(AND(B15>='Calculadora'!$C$21,B15<='Calculadora'!$C$22),'Calculadora'!$C$20,0))*(1+'Calculadora'!$C$12)^A15) -> 17574.891 | E15: =IF(A15="","",IF(AND(B15>='Calculadora'!$C$24,B15<='Calculadora'!$C$25),'Calculadora'!$C$23,0)*(1+'Calculadora'!$C$12)^A15) -> 0 | F15: =IF(A15="","",F14*(1+'Calculadora'!$C$29)+C14+E14-D14) -> 123275.29 | G15: =IF(A15="","",D15-E15+IF(A16="",0,MAX(0,G16/(1+'Calculadora'!$C$29)))) -> 474867.2 | H15: =IF(A15="","",IF('Calculadora'!$C$16="Con la regla del 4 %",IF(F15*'Calculadora'!$C$17>=D15-E15-1E-9,"Sí","No"),IF(F15>=G15-0.005,"Sí","No"))) -> No | I15: =IF(A15="","",J14) -> 123275.29 | J15: =IF(A15="","",IF(A15<IF(ISNUMBER('Calculadora'!$C$30),'Calculadora'!$C$30,'Calculadora'!$C$28),I15*(1+'Calculadora'!$C$29)+C15+E15-D15,MAX(0,I15-D15+E15)*(1+'Calculadora'!$C$29))) -> 138935.58 | K15: =IF(A15="","",J15/(1+'Calculadora'!$C$12)^(A15+1)) -> 116255.08
A16: =IF(9<'Calculadora'!$C$28,9,"") -> 9 | B16: =IF(A16="","",'Calculadora'!$C$7+A16) -> 45 | C16: =IF(A16="","",'Calculadora'!$C$8*(1+'Calculadora'!$C$13)^A16) -> 27342.132 | D16: =IF(A16="","",('Calculadora'!$C$9+IF(AND(B16>='Calculadora'!$C$21,B16<='Calculadora'!$C$22),'Calculadora'!$C$20,0))*(1+'Calculadora'!$C$12)^A16) -> 17926.389 | E16: =IF(A16="","",IF(AND(B16>='Calculadora'!$C$24,B16<='Calculadora'!$C$25),'Calculadora'!$C$23,0)*(1+'Calculadora'!$C$12)^A16) -> 0 | F16: =IF(A16="","",F15*(1+'Calculadora'!$C$29)+C15+E15-D15) -> 138935.58 | G16: =IF(A16="","",D16-E16+IF(A17="",0,MAX(0,G17/(1+'Calculadora'!$C$29)))) -> 480156.92 | H16: =IF(A16="","",IF('Calculadora'!$C$16="Con la regla del 4 %",IF(F16*'Calculadora'!$C$17>=D16-E16-1E-9,"Sí","No"),IF(F16>=G16-0.005,"Sí","No"))) -> No | I16: =IF(A16="","",J15) -> 138935.58 | J16: =IF(A16="","",IF(A16<IF(ISNUMBER('Calculadora'!$C$30),'Calculadora'!$C$30,'Calculadora'!$C$28),I16*(1+'Calculadora'!$C$29)+C16+E16-D16,MAX(0,I16-D16+E16)*(1+'Calculadora'!$C$29))) -> 155298.1 | K16: =IF(A16="","",J16/(1+'Calculadora'!$C$12)^(A16+1)) -> 127398.53
A17: =IF(10<'Calculadora'!$C$28,10,"") -> 10 | B17: =IF(A17="","",'Calculadora'!$C$7+A17) -> 46 | C17: =IF(A17="","",'Calculadora'!$C$8*(1+'Calculadora'!$C$13)^A17) -> 27615.553 | D17: =IF(A17="","",('Calculadora'!$C$9+IF(AND(B17>='Calculadora'!$C$21,B17<='Calculadora'!$C$22),'Calculadora'!$C$20,0))*(1+'Calculadora'!$C$12)^A17) -> 18284.916 | E17: =IF(A17="","",IF(AND(B17>='Calculadora'!$C$24,B17<='Calculadora'!$C$25),'Calculadora'!$C$23,0)*(1+'Calculadora'!$C$12)^A17) -> 0 | F17: =IF(A17="","",F16*(1+'Calculadora'!$C$29)+C16+E16-D16) -> 155298.1 | G17: =IF(A17="","",D17-E17+IF(A18="",0,MAX(0,G18/(1+'Calculadora'!$C$29)))) -> 485342.06 | H17: =IF(A17="","",IF('Calculadora'!$C$16="Con la regla del 4 %",IF(F17*'Calculadora'!$C$17>=D17-E17-1E-9,"Sí","No"),IF(F17>=G17-0.005,"Sí","No"))) -> No | I17: =IF(A17="","",J16) -> 155298.1 | J17: =IF(A17="","",IF(A17<IF(ISNUMBER('Calculadora'!$C$30),'Calculadora'!$C$30,'Calculadora'!$C$28),I17*(1+'Calculadora'!$C$29)+C17+E17-D17,MAX(0,I17-D17+E17)*(1+'Calculadora'!$C$29))) -> 172393.64 | K17: =IF(A17="","",J17/(1+'Calculadora'!$C$12)^(A17+1)) -> 138649.84
A18: =IF(11<'Calculadora'!$C$28,11,"") -> 11 | B18: =IF(A18="","",'Calculadora'!$C$7+A18) -> 47 | C18: =IF(A18="","",'Calculadora'!$C$8*(1+'Calculadora'!$C$13)^A18) -> 27891.709 | D18: =IF(A18="","",('Calculadora'!$C$9+IF(AND(B18>='Calculadora'!$C$21,B18<='Calculadora'!$C$22),'Calculadora'!$C$20,0))*(1+'Calculadora'!$C$12)^A18) -> 18650.615 | E18: =IF(A18="","",IF(AND(B18>='Calculadora'!$C$24,B18<='Calculadora'!$C$25),'Calculadora'!$C$23,0)*(1+'Calculadora'!$C$12)^A18) -> 0 | F18: =IF(A18="","",F17*(1+'Calculadora'!$C$29)+C17+E17-D17) -> 172393.64 | G18: =IF(A18="","",D18-E18+IF(A19="",0,MAX(0,G19/(1+'Calculadora'!$C$29)))) -> 490410 | H18: =IF(A18="","",IF('Calculadora'!$C$16="Con la regla del 4 %",IF(F18*'Calculadora'!$C$17>=D18-E18-1E-9,"Sí","No"),IF(F18>=G18-0.005,"Sí","No"))) -> No | I18: =IF(A18="","",J17) -> 172393.64 | J18: =IF(A18="","",IF(A18<IF(ISNUMBER('Calculadora'!$C$30),'Calculadora'!$C$30,'Calculadora'!$C$28),I18*(1+'Calculadora'!$C$29)+C18+E18-D18,MAX(0,I18-D18+E18)*(1+'Calculadora'!$C$29))) -> 190254.42 | K18: =IF(A18="","",J18/(1+'Calculadora'!$C$12)^(A18+1)) -> 150014.31
A19: =IF(12<'Calculadora'!$C$28,12,"") -> 12 | B19: =IF(A19="","",'Calculadora'!$C$7+A19) -> 48 | C19: =IF(A19="","",'Calculadora'!$C$8*(1+'Calculadora'!$C$13)^A19) -> 28170.626 | D19: =IF(A19="","",('Calculadora'!$C$9+IF(AND(B19>='Calculadora'!$C$21,B19<='Calculadora'!$C$22),'Calculadora'!$C$20,0))*(1+'Calculadora'!$C$12)^A19) -> 19023.627 | E19: =IF(A19="","",IF(AND(B19>='Calculadora'!$C$24,B19<='Calculadora'!$C$25),'Calculadora'!$C$23,0)*(1+'Calculadora'!$C$12)^A19) -> 0 | F19: =IF(A19="","",F18*(1+'Calculadora'!$C$29)+C18+E18-D18) -> 190254.42 | G19: =IF(A19="","",D19-E19+IF(A20="",0,MAX(0,G20/(1+'Calculadora'!$C$29)))) -> 495347.36 | H19: =IF(A19="","",IF('Calculadora'!$C$16="Con la regla del 4 %",IF(F19*'Calculadora'!$C$17>=D19-E19-1E-9,"Sí","No"),IF(F19>=G19-0.005,"Sí","No"))) -> No | I19: =IF(A19="","",J18) -> 190254.42 | J19: =IF(A19="","",IF(A19<IF(ISNUMBER('Calculadora'!$C$30),'Calculadora'!$C$30,'Calculadora'!$C$28),I19*(1+'Calculadora'!$C$29)+C19+E19-D19,MAX(0,I19-D19+E19)*(1+'Calculadora'!$C$29))) -> 208914.14 | K19: =IF(A19="","",J19/(1+'Calculadora'!$C$12)^(A19+1)) -> 161497.43
A20: =IF(13<'Calculadora'!$C$28,13,"") -> 13 | B20: =IF(A20="","",'Calculadora'!$C$7+A20) -> 49 | C20: =IF(A20="","",'Calculadora'!$C$8*(1+'Calculadora'!$C$13)^A20) -> 28452.332 | D20: =IF(A20="","",('Calculadora'!$C$9+IF(AND(B20>='Calculadora'!$C$21,B20<='Calculadora'!$C$22),'Calculadora'!$C$20,0))*(1+'Calculadora'!$C$12)^A20) -> 19404.099 | E20: =IF(A20="","",IF(AND(B20>='Calculadora'!$C$24,B20<='Calculadora'!$C$25),'Calculadora'!$C$23,0)*(1+'Calculadora'!$C$12)^A20) -> 0 | F20: =IF(A20="","",F19*(1+'Calculadora'!$C$29)+C19+E19-D19) -> 208914.14 | G20: =IF(A20="","",D20-E20+IF(A21="",0,MAX(0,G21/(1+'Calculadora'!$C$29)))) -> 500139.92 | H20: =IF(A20="","",IF('Calculadora'!$C$16="Con la regla del 4 %",IF(F20*'Calculadora'!$C$17>=D20-E20-1E-9,"Sí","No"),IF(F20>=G20-0.005,"Sí","No"))) -> No | I20: =IF(A20="","",J19) -> 208914.14 | J20: =IF(A20="","",IF(A20<IF(ISNUMBER('Calculadora'!$C$30),'Calculadora'!$C$30,'Calculadora'!$C$28),I20*(1+'Calculadora'!$C$29)+C20+E20-D20,MAX(0,I20-D20+E20)*(1+'Calculadora'!$C$29))) -> 228408.08 | K20: =IF(A20="","",J20/(1+'Calculadora'!$C$12)^(A20+1)) -> 173104.78
A21: =IF(14<'Calculadora'!$C$28,14,"") -> 14 | B21: =IF(A21="","",'Calculadora'!$C$7+A21) -> 50 | C21: =IF(A21="","",'Calculadora'!$C$8*(1+'Calculadora'!$C$13)^A21) -> 28736.855 | D21: =IF(A21="","",('Calculadora'!$C$9+IF(AND(B21>='Calculadora'!$C$21,B21<='Calculadora'!$C$22),'Calculadora'!$C$20,0))*(1+'Calculadora'!$C$12)^A21) -> 19792.181 | E21: =IF(A21="","",IF(AND(B21>='Calculadora'!$C$24,B21<='Calculadora'!$C$25),'Calculadora'!$C$23,0)*(1+'Calculadora'!$C$12)^A21) -> 0 | F21: =IF(A21="","",F20*(1+'Calculadora'!$C$29)+C20+E20-D20) -> 228408.08 | G21: =IF(A21="","",D21-E21+IF(A22="",0,MAX(0,G22/(1+'Calculadora'!$C$29)))) -> 504772.61 | H21: =IF(A21="","",IF('Calculadora'!$C$16="Con la regla del 4 %",IF(F21*'Calculadora'!$C$17>=D21-E21-1E-9,"Sí","No"),IF(F21>=G21-0.005,"Sí","No"))) -> No | I21: =IF(A21="","",J20) -> 228408.08 | J21: =IF(A21="","",IF(A21<IF(ISNUMBER('Calculadora'!$C$30),'Calculadora'!$C$30,'Calculadora'!$C$28),I21*(1+'Calculadora'!$C$29)+C21+E21-D21,MAX(0,I21-D21+E21)*(1+'Calculadora'!$C$29))) -> 248773.16 | K21: =IF(A21="","",J21/(1+'Calculadora'!$C$12)^(A21+1)) -> 184842.12
A22: =IF(15<'Calculadora'!$C$28,15,"") -> 15 | B22: =IF(A22="","",'Calculadora'!$C$7+A22) -> 51 | C22: =IF(A22="","",'Calculadora'!$C$8*(1+'Calculadora'!$C$13)^A22) -> 29024.224 | D22: =IF(A22="","",('Calculadora'!$C$9+IF(AND(B22>='Calculadora'!$C$21,B22<='Calculadora'!$C$22),'Calculadora'!$C$20,0))*(1+'Calculadora'!$C$12)^A22) -> 20188.025 | E22: =IF(A22="","",IF(AND(B22>='Calculadora'!$C$24,B22<='Calculadora'!$C$25),'Calculadora'!$C$23,0)*(1+'Calculadora'!$C$12)^A22) -> 0 | F22: =IF(A22="","",F21*(1+'Calculadora'!$C$29)+C21+E21-D21) -> 248773.16 | G22: =IF(A22="","",D22-E22+IF(A23="",0,MAX(0,G23/(1+'Calculadora'!$C$29)))) -> 509229.45 | H22: =IF(A22="","",IF('Calculadora'!$C$16="Con la regla del 4 %",IF(F22*'Calculadora'!$C$17>=D22-E22-1E-9,"Sí","No"),IF(F22>=G22-0.005,"Sí","No"))) -> No | I22: =IF(A22="","",J21) -> 248773.16 | J22: =IF(A22="","",IF(A22<IF(ISNUMBER('Calculadora'!$C$30),'Calculadora'!$C$30,'Calculadora'!$C$28),I22*(1+'Calculadora'!$C$29)+C22+E22-D22,MAX(0,I22-D22+E22)*(1+'Calculadora'!$C$29))) -> 270048.01 | K22: =IF(A22="","",J22/(1+'Calculadora'!$C$12)^(A22+1)) -> 196715.35
A23: =IF(16<'Calculadora'!$C$28,16,"") -> 16 | B23: =IF(A23="","",'Calculadora'!$C$7+A23) -> 52 | C23: =IF(A23="","",'Calculadora'!$C$8*(1+'Calculadora'!$C$13)^A23) -> 29314.466 | D23: =IF(A23="","",('Calculadora'!$C$9+IF(AND(B23>='Calculadora'!$C$21,B23<='Calculadora'!$C$22),'Calculadora'!$C$20,0))*(1+'Calculadora'!$C$12)^A23) -> 20591.786 | E23: =IF(A23="","",IF(AND(B23>='Calculadora'!$C$24,B23<='Calculadora'!$C$25),'Calculadora'!$C$23,0)*(1+'Calculadora'!$C$12)^A23) -> 0 | F23: =IF(A23="","",F22*(1+'Calculadora'!$C$29)+C22+E22-D22) -> 270048.01 | G23: =IF(A23="","",D23-E23+IF(A24="",0,MAX(0,G24/(1+'Calculadora'!$C$29)))) -> 513493.49 | H23: =IF(A23="","",IF('Calculadora'!$C$16="Con la regla del 4 %",IF(F23*'Calculadora'!$C$17>=D23-E23-1E-9,"Sí","No"),IF(F23>=G23-0.005,"Sí","No"))) -> No | I23: =IF(A23="","",J22) -> 270048.01 | J23: =IF(A23="","",IF(A23<IF(ISNUMBER('Calculadora'!$C$30),'Calculadora'!$C$30,'Calculadora'!$C$28),I23*(1+'Calculadora'!$C$29)+C23+E23-D23,MAX(0,I23-D23+E23)*(1+'Calculadora'!$C$29))) -> 292273.1 | K23: =IF(A23="","",J23/(1+'Calculadora'!$C$12)^(A23+1)) -> 208730.5
A24: =IF(17<'Calculadora'!$C$28,17,"") -> 17 | B24: =IF(A24="","",'Calculadora'!$C$7+A24) -> 53 | C24: =IF(A24="","",'Calculadora'!$C$8*(1+'Calculadora'!$C$13)^A24) -> 29607.611 | D24: =IF(A24="","",('Calculadora'!$C$9+IF(AND(B24>='Calculadora'!$C$21,B24<='Calculadora'!$C$22),'Calculadora'!$C$20,0))*(1+'Calculadora'!$C$12)^A24) -> 21003.621 | E24: =IF(A24="","",IF(AND(B24>='Calculadora'!$C$24,B24<='Calculadora'!$C$25),'Calculadora'!$C$23,0)*(1+'Calculadora'!$C$12)^A24) -> 0 | F24: =IF(A24="","",F23*(1+'Calculadora'!$C$29)+C23+E23-D23) -> 292273.1 | G24: =IF(A24="","",D24-E24+IF(A25="",0,MAX(0,G25/(1+'Calculadora'!$C$29)))) -> 517546.79 | H24: =IF(A24="","",IF('Calculadora'!$C$16="Con la regla del 4 %",IF(F24*'Calculadora'!$C$17>=D24-E24-1E-9,"Sí","No"),IF(F24>=G24-0.005,"Sí","No"))) -> No | I24: =IF(A24="","",J23) -> 292273.1 | J24: =IF(A24="","",IF(A24<IF(ISNUMBER('Calculadora'!$C$30),'Calculadora'!$C$30,'Calculadora'!$C$28),I24*(1+'Calculadora'!$C$29)+C24+E24-D24,MAX(0,I24-D24+E24)*(1+'Calculadora'!$C$29))) -> 315490.74 | K24: =IF(A24="","",J24/(1+'Calculadora'!$C$12)^(A24+1)) -> 220893.8
A25: =IF(18<'Calculadora'!$C$28,18,"") -> 18 | B25: =IF(A25="","",'Calculadora'!$C$7+A25) -> 54 | C25: =IF(A25="","",'Calculadora'!$C$8*(1+'Calculadora'!$C$13)^A25) -> 29903.687 | D25: =IF(A25="","",('Calculadora'!$C$9+IF(AND(B25>='Calculadora'!$C$21,B25<='Calculadora'!$C$22),'Calculadora'!$C$20,0))*(1+'Calculadora'!$C$12)^A25) -> 21423.694 | E25: =IF(A25="","",IF(AND(B25>='Calculadora'!$C$24,B25<='Calculadora'!$C$25),'Calculadora'!$C$23,0)*(1+'Calculadora'!$C$12)^A25) -> 0 | F25: =IF(A25="","",F24*(1+'Calculadora'!$C$29)+C24+E24-D24) -> 315490.74 | G25: =IF(A25="","",D25-E25+IF(A26="",0,MAX(0,G26/(1+'Calculadora'!$C$29)))) -> 521370.33 | H25: =IF(A25="","",IF('Calculadora'!$C$16="Con la regla del 4 %",IF(F25*'Calculadora'!$C$17>=D25-E25-1E-9,"Sí","No"),IF(F25>=G25-0.005,"Sí","No"))) -> No | I25: =IF(A25="","",J24) -> 315490.74 | J25: =IF(A25="","",IF(A25<IF(ISNUMBER('Calculadora'!$C$30),'Calculadora'!$C$30,'Calculadora'!$C$28),I25*(1+'Calculadora'!$C$29)+C25+E25-D25,MAX(0,I25-D25+E25)*(1+'Calculadora'!$C$29))) -> 339745.27 | K25: =IF(A25="","",J25/(1+'Calculadora'!$C$12)^(A25+1)) -> 233211.6
A26: =IF(19<'Calculadora'!$C$28,19,"") -> 19 | B26: =IF(A26="","",'Calculadora'!$C$7+A26) -> 55 | C26: =IF(A26="","",'Calculadora'!$C$8*(1+'Calculadora'!$C$13)^A26) -> 30202.724 | D26: =IF(A26="","",('Calculadora'!$C$9+IF(AND(B26>='Calculadora'!$C$21,B26<='Calculadora'!$C$22),'Calculadora'!$C$20,0))*(1+'Calculadora'!$C$12)^A26) -> 21852.168 | E26: =IF(A26="","",IF(AND(B26>='Calculadora'!$C$24,B26<='Calculadora'!$C$25),'Calculadora'!$C$23,0)*(1+'Calculadora'!$C$12)^A26) -> 0 | F26: =IF(A26="","",F25*(1+'Calculadora'!$C$29)+C25+E25-D25) -> 339745.27 | G26: =IF(A26="","",D26-E26+IF(A27="",0,MAX(0,G27/(1+'Calculadora'!$C$29)))) -> 524943.97 | H26: =IF(A26="","",IF('Calculadora'!$C$16="Con la regla del 4 %",IF(F26*'Calculadora'!$C$17>=D26-E26-1E-9,"Sí","No"),IF(F26>=G26-0.005,"Sí","No"))) -> No | I26: =IF(A26="","",J25) -> 339745.27 | J26: =IF(A26="","",IF(A26<IF(ISNUMBER('Calculadora'!$C$30),'Calculadora'!$C$30,'Calculadora'!$C$28),I26*(1+'Calculadora'!$C$29)+C26+E26-D26,MAX(0,I26-D26+E26)*(1+'Calculadora'!$C$29))) -> 365083.09 | K26: =IF(A26="","",J26/(1+'Calculadora'!$C$12)^(A26+1)) -> 245690.45
A27: =IF(20<'Calculadora'!$C$28,20,"") -> 20 | B27: =IF(A27="","",'Calculadora'!$C$7+A27) -> 56 | C27: =IF(A27="","",'Calculadora'!$C$8*(1+'Calculadora'!$C$13)^A27) -> 30504.751 | D27: =IF(A27="","",('Calculadora'!$C$9+IF(AND(B27>='Calculadora'!$C$21,B27<='Calculadora'!$C$22),'Calculadora'!$C$20,0))*(1+'Calculadora'!$C$12)^A27) -> 22289.211 | E27: =IF(A27="","",IF(AND(B27>='Calculadora'!$C$24,B27<='Calculadora'!$C$25),'Calculadora'!$C$23,0)*(1+'Calculadora'!$C$12)^A27) -> 0 | F27: =IF(A27="","",F26*(1+'Calculadora'!$C$29)+C26+E26-D26) -> 365083.09 | G27: =IF(A27="","",D27-E27+IF(A28="",0,MAX(0,G28/(1+'Calculadora'!$C$29)))) -> 528246.39 | H27: =IF(A27="","",IF('Calculadora'!$C$16="Con la regla del 4 %",IF(F27*'Calculadora'!$C$17>=D27-E27-1E-9,"Sí","No"),IF(F27>=G27-0.005,"Sí","No"))) -> No | I27: =IF(A27="","",J26) -> 365083.09 | J27: =IF(A27="","",IF(A27<IF(ISNUMBER('Calculadora'!$C$30),'Calculadora'!$C$30,'Calculadora'!$C$28),I27*(1+'Calculadora'!$C$29)+C27+E27-D27,MAX(0,I27-D27+E27)*(1+'Calculadora'!$C$29))) -> 391552.78 | K27: =IF(A27="","",J27/(1+'Calculadora'!$C$12)^(A27+1)) -> 258337.06
A28: =IF(21<'Calculadora'!$C$28,21,"") -> 21 | B28: =IF(A28="","",'Calculadora'!$C$7+A28) -> 57 | C28: =IF(A28="","",'Calculadora'!$C$8*(1+'Calculadora'!$C$13)^A28) -> 30809.799 | D28: =IF(A28="","",('Calculadora'!$C$9+IF(AND(B28>='Calculadora'!$C$21,B28<='Calculadora'!$C$22),'Calculadora'!$C$20,0))*(1+'Calculadora'!$C$12)^A28) -> 22734.995 | E28: =IF(A28="","",IF(AND(B28>='Calculadora'!$C$24,B28<='Calculadora'!$C$25),'Calculadora'!$C$23,0)*(1+'Calculadora'!$C$12)^A28) -> 0 | F28: =IF(A28="","",F27*(1+'Calculadora'!$C$29)+C27+E27-D27) -> 391552.78 | G28: =IF(A28="","",D28-E28+IF(A29="",0,MAX(0,G29/(1+'Calculadora'!$C$29)))) -> 531255.04 | H28: =IF(A28="","",IF('Calculadora'!$C$16="Con la regla del 4 %",IF(F28*'Calculadora'!$C$17>=D28-E28-1E-9,"Sí","No"),IF(F28>=G28-0.005,"Sí","No"))) -> No | I28: =IF(A28="","",J27) -> 391552.78 | J28: =IF(A28="","",IF(A28<IF(ISNUMBER('Calculadora'!$C$30),'Calculadora'!$C$30,'Calculadora'!$C$28),I28*(1+'Calculadora'!$C$29)+C28+E28-D28,MAX(0,I28-D28+E28)*(1+'Calculadora'!$C$29))) -> 419205.23 | K28: =IF(A28="","",J28/(1+'Calculadora'!$C$12)^(A28+1)) -> 271158.31
A29: =IF(22<'Calculadora'!$C$28,22,"") -> 22 | B29: =IF(A29="","",'Calculadora'!$C$7+A29) -> 58 | C29: =IF(A29="","",'Calculadora'!$C$8*(1+'Calculadora'!$C$13)^A29) -> 31117.896 | D29: =IF(A29="","",('Calculadora'!$C$9+IF(AND(B29>='Calculadora'!$C$21,B29<='Calculadora'!$C$22),'Calculadora'!$C$20,0))*(1+'Calculadora'!$C$12)^A29) -> 23189.695 | E29: =IF(A29="","",IF(AND(B29>='Calculadora'!$C$24,B29<='Calculadora'!$C$25),'Calculadora'!$C$23,0)*(1+'Calculadora'!$C$12)^A29) -> 0 | F29: =IF(A29="","",F28*(1+'Calculadora'!$C$29)+C28+E28-D28) -> 419205.23 | G29: =IF(A29="","",D29-E29+IF(A30="",0,MAX(0,G30/(1+'Calculadora'!$C$29)))) -> 533946.05 | H29: =IF(A29="","",IF('Calculadora'!$C$16="Con la regla del 4 %",IF(F29*'Calculadora'!$C$17>=D29-E29-1E-9,"Sí","No"),IF(F29>=G29-0.005,"Sí","No"))) -> No | I29: =IF(A29="","",J28) -> 419205.23 | J29: =IF(A29="","",IF(A29<IF(ISNUMBER('Calculadora'!$C$30),'Calculadora'!$C$30,'Calculadora'!$C$28),I29*(1+'Calculadora'!$C$29)+C29+E29-D29,MAX(0,I29-D29+E29)*(1+'Calculadora'!$C$29))) -> 448093.69 | K29: =IF(A29="","",J29/(1+'Calculadora'!$C$12)^(A29+1)) -> 284161.27
A30: =IF(23<'Calculadora'!$C$28,23,"") -> 23 | B30: =IF(A30="","",'Calculadora'!$C$7+A30) -> 59 | C30: =IF(A30="","",'Calculadora'!$C$8*(1+'Calculadora'!$C$13)^A30) -> 31429.075 | D30: =IF(A30="","",('Calculadora'!$C$9+IF(AND(B30>='Calculadora'!$C$21,B30<='Calculadora'!$C$22),'Calculadora'!$C$20,0))*(1+'Calculadora'!$C$12)^A30) -> 23653.489 | E30: =IF(A30="","",IF(AND(B30>='Calculadora'!$C$24,B30<='Calculadora'!$C$25),'Calculadora'!$C$23,0)*(1+'Calculadora'!$C$12)^A30) -> 0 | F30: =IF(A30="","",F29*(1+'Calculadora'!$C$29)+C29+E29-D29) -> 448093.69 | G30: =IF(A30="","",D30-E30+IF(A31="",0,MAX(0,G31/(1+'Calculadora'!$C$29)))) -> 536294.17 | H30: =IF(A30="","",IF('Calculadora'!$C$16="Con la regla del 4 %",IF(F30*'Calculadora'!$C$17>=D30-E30-1E-9,"Sí","No"),IF(F30>=G30-0.005,"Sí","No"))) -> No | I30: =IF(A30="","",J29) -> 448093.69 | J30: =IF(A30="","",IF(A30<IF(ISNUMBER('Calculadora'!$C$30),'Calculadora'!$C$30,'Calculadora'!$C$28),I30*(1+'Calculadora'!$C$29)+C30+E30-D30,MAX(0,I30-D30+E30)*(1+'Calculadora'!$C$29))) -> 478273.96 | K30: =IF(A30="","",J30/(1+'Calculadora'!$C$12)^(A30+1)) -> 297353.2
A31: =IF(24<'Calculadora'!$C$28,24,"") -> 24 | B31: =IF(A31="","",'Calculadora'!$C$7+A31) -> 60 | C31: =IF(A31="","",'Calculadora'!$C$8*(1+'Calculadora'!$C$13)^A31) -> 31743.366 | D31: =IF(A31="","",('Calculadora'!$C$9+IF(AND(B31>='Calculadora'!$C$21,B31<='Calculadora'!$C$22),'Calculadora'!$C$20,0))*(1+'Calculadora'!$C$12)^A31) -> 24126.559 | E31: =IF(A31="","",IF(AND(B31>='Calculadora'!$C$24,B31<='Calculadora'!$C$25),'Calculadora'!$C$23,0)*(1+'Calculadora'!$C$12)^A31) -> 0 | F31: =IF(A31="","",F30*(1+'Calculadora'!$C$29)+C30+E30-D30) -> 478273.96 | G31: =IF(A31="","",D31-E31+IF(A32="",0,MAX(0,G32/(1+'Calculadora'!$C$29)))) -> 538272.71 | H31: =IF(A31="","",IF('Calculadora'!$C$16="Con la regla del 4 %",IF(F31*'Calculadora'!$C$17>=D31-E31-1E-9,"Sí","No"),IF(F31>=G31-0.005,"Sí","No"))) -> No | I31: =IF(A31="","",J30) -> 478273.96 | J31: =IF(A31="","",IF(A31<IF(ISNUMBER('Calculadora'!$C$30),'Calculadora'!$C$30,'Calculadora'!$C$28),I31*(1+'Calculadora'!$C$29)+C31+E31-D31,MAX(0,I31-D31+E31)*(1+'Calculadora'!$C$29))) -> 509804.47 | K31: =IF(A31="","",J31/(1+'Calculadora'!$C$12)^(A31+1)) -> 310741.56
A32: =IF(25<'Calculadora'!$C$28,25,"") -> 25 | B32: =IF(A32="","",'Calculadora'!$C$7+A32) -> 61 | C32: =IF(A32="","",'Calculadora'!$C$8*(1+'Calculadora'!$C$13)^A32) -> 32060.8 | D32: =IF(A32="","",('Calculadora'!$C$9+IF(AND(B32>='Calculadora'!$C$21,B32<='Calculadora'!$C$22),'Calculadora'!$C$20,0))*(1+'Calculadora'!$C$12)^A32) -> 24609.09 | E32: =IF(A32="","",IF(AND(B32>='Calculadora'!$C$24,B32<='Calculadora'!$C$25),'Calculadora'!$C$23,0)*(1+'Calculadora'!$C$12)^A32) -> 0 | F32: =IF(A32="","",F31*(1+'Calculadora'!$C$29)+C31+E31-D31) -> 509804.47 | G32: =IF(A32="","",D32-E32+IF(A33="",0,MAX(0,G33/(1+'Calculadora'!$C$29)))) -> 539853.46 | H32: =IF(A32="","",IF('Calculadora'!$C$16="Con la regla del 4 %",IF(F32*'Calculadora'!$C$17>=D32-E32-1E-9,"Sí","No"),IF(F32>=G32-0.005,"Sí","No"))) -> No | I32: =IF(A32="","",J31) -> 509804.47 | J32: =IF(A32="","",IF(A32<IF(ISNUMBER('Calculadora'!$C$30),'Calculadora'!$C$30,'Calculadora'!$C$28),I32*(1+'Calculadora'!$C$29)+C32+E32-D32,MAX(0,I32-D32+E32)*(1+'Calculadora'!$C$29))) -> 542746.4 | K32: =IF(A32="","",J32/(1+'Calculadora'!$C$12)^(A32+1)) -> 324334.01
A33: =IF(26<'Calculadora'!$C$28,26,"") -> 26 | B33: =IF(A33="","",'Calculadora'!$C$7+A33) -> 62 | C33: =IF(A33="","",'Calculadora'!$C$8*(1+'Calculadora'!$C$13)^A33) -> 32381.408 | D33: =IF(A33="","",('Calculadora'!$C$9+IF(AND(B33>='Calculadora'!$C$21,B33<='Calculadora'!$C$22),'Calculadora'!$C$20,0))*(1+'Calculadora'!$C$12)^A33) -> 25101.272 | E33: =IF(A33="","",IF(AND(B33>='Calculadora'!$C$24,B33<='Calculadora'!$C$25),'Calculadora'!$C$23,0)*(1+'Calculadora'!$C$12)^A33) -> 0 | F33: =IF(A33="","",F32*(1+'Calculadora'!$C$29)+C32+E32-D32) -> 542746.4 | G33: =IF(A33="","",D33-E33+IF(A34="",0,MAX(0,G34/(1+'Calculadora'!$C$29)))) -> 541006.59 | H33: =IF(A33="","",IF('Calculadora'!$C$16="Con la regla del 4 %",IF(F33*'Calculadora'!$C$17>=D33-E33-1E-9,"Sí","No"),IF(F33>=G33-0.005,"Sí","No"))) -> Sí | I33: =IF(A33="","",J32) -> 542746.4 | J33: =IF(A33="","",IF(A33<IF(ISNUMBER('Calculadora'!$C$30),'Calculadora'!$C$30,'Calculadora'!$C$28),I33*(1+'Calculadora'!$C$29)+C33+E33-D33,MAX(0,I33-D33+E33)*(1+'Calculadora'!$C$29))) -> 543527.38 | K33: =IF(A33="","",J33/(1+'Calculadora'!$C$12)^(A33+1)) -> 318432.06
A34: =IF(27<'Calculadora'!$C$28,27,"") -> 27 | B34: =IF(A34="","",'Calculadora'!$C$7+A34) -> 63 | C34: =IF(A34="","",'Calculadora'!$C$8*(1+'Calculadora'!$C$13)^A34) -> 32705.222 | D34: =IF(A34="","",('Calculadora'!$C$9+IF(AND(B34>='Calculadora'!$C$21,B34<='Calculadora'!$C$22),'Calculadora'!$C$20,0))*(1+'Calculadora'!$C$12)^A34) -> 25603.297 | E34: =IF(A34="","",IF(AND(B34>='Calculadora'!$C$24,B34<='Calculadora'!$C$25),'Calculadora'!$C$23,0)*(1+'Calculadora'!$C$12)^A34) -> 0 | F34: =IF(A34="","",F33*(1+'Calculadora'!$C$29)+C33+E33-D33) -> 577163.86 | G34: =IF(A34="","",D34-E34+IF(A35="",0,MAX(0,G35/(1+'Calculadora'!$C$29)))) -> 541700.59 | H34: =IF(A34="","",IF('Calculadora'!$C$16="Con la regla del 4 %",IF(F34*'Calculadora'!$C$17>=D34-E34-1E-9,"Sí","No"),IF(F34>=G34-0.005,"Sí","No"))) -> Sí | I34: =IF(A34="","",J33) -> 543527.38 | J34: =IF(A34="","",IF(A34<IF(ISNUMBER('Calculadora'!$C$30),'Calculadora'!$C$30,'Calculadora'!$C$28),I34*(1+'Calculadora'!$C$29)+C34+E34-D34,MAX(0,I34-D34+E34)*(1+'Calculadora'!$C$29))) -> 543820.29 | K34: =IF(A34="","",J34/(1+'Calculadora'!$C$12)^(A34+1)) -> 312356.54
A35: =IF(28<'Calculadora'!$C$28,28,"") -> 28 | B35: =IF(A35="","",'Calculadora'!$C$7+A35) -> 64 | C35: =IF(A35="","",'Calculadora'!$C$8*(1+'Calculadora'!$C$13)^A35) -> 33032.274 | D35: =IF(A35="","",('Calculadora'!$C$9+IF(AND(B35>='Calculadora'!$C$21,B35<='Calculadora'!$C$22),'Calculadora'!$C$20,0))*(1+'Calculadora'!$C$12)^A35) -> 26115.363 | E35: =IF(A35="","",IF(AND(B35>='Calculadora'!$C$24,B35<='Calculadora'!$C$25),'Calculadora'!$C$23,0)*(1+'Calculadora'!$C$12)^A35) -> 0 | F35: =IF(A35="","",F34*(1+'Calculadora'!$C$29)+C34+E34-D34) -> 613123.97 | G35: =IF(A35="","",D35-E35+IF(A36="",0,MAX(0,G36/(1+'Calculadora'!$C$29)))) -> 541902.15 | H35: =IF(A35="","",IF('Calculadora'!$C$16="Con la regla del 4 %",IF(F35*'Calculadora'!$C$17>=D35-E35-1E-9,"Sí","No"),IF(F35>=G35-0.005,"Sí","No"))) -> Sí | I35: =IF(A35="","",J34) -> 543820.29 | J35: =IF(A35="","",IF(A35<IF(ISNUMBER('Calculadora'!$C$30),'Calculadora'!$C$30,'Calculadora'!$C$28),I35*(1+'Calculadora'!$C$29)+C35+E35-D35,MAX(0,I35-D35+E35)*(1+'Calculadora'!$C$29))) -> 543590.18 | K35: =IF(A35="","",J35/(1+'Calculadora'!$C$12)^(A35+1)) -> 306102.32
A36: =IF(29<'Calculadora'!$C$28,29,"") -> 29 | B36: =IF(A36="","",'Calculadora'!$C$7+A36) -> 65 | C36: =IF(A36="","",'Calculadora'!$C$8*(1+'Calculadora'!$C$13)^A36) -> 33362.597 | D36: =IF(A36="","",('Calculadora'!$C$9+IF(AND(B36>='Calculadora'!$C$21,B36<='Calculadora'!$C$22),'Calculadora'!$C$20,0))*(1+'Calculadora'!$C$12)^A36) -> 26637.67 | E36: =IF(A36="","",IF(AND(B36>='Calculadora'!$C$24,B36<='Calculadora'!$C$25),'Calculadora'!$C$23,0)*(1+'Calculadora'!$C$12)^A36) -> 0 | F36: =IF(A36="","",F35*(1+'Calculadora'!$C$29)+C35+E35-D35) -> 650697.08 | G36: =IF(A36="","",D36-E36+IF(A37="",0,MAX(0,G37/(1+'Calculadora'!$C$29)))) -> 541576.13 | H36: =IF(A36="","",IF('Calculadora'!$C$16="Con la regla del 4 %",IF(F36*'Calculadora'!$C$17>=D36-E36-1E-9,"Sí","No"),IF(F36>=G36-0.005,"Sí","No"))) -> Sí | I36: =IF(A36="","",J35) -> 543590.18 | J36: =IF(A36="","",IF(A36<IF(ISNUMBER('Calculadora'!$C$30),'Calculadora'!$C$30,'Calculadora'!$C$28),I36*(1+'Calculadora'!$C$29)+C36+E36-D36,MAX(0,I36-D36+E36)*(1+'Calculadora'!$C$29))) -> 542800.13 | K36: =IF(A36="","",J36/(1+'Calculadora'!$C$12)^(A36+1)) -> 299664.15
A37: =IF(30<'Calculadora'!$C$28,30,"") -> 30 | B37: =IF(A37="","",'Calculadora'!$C$7+A37) -> 66 | C37: =IF(A37="","",'Calculadora'!$C$8*(1+'Calculadora'!$C$13)^A37) -> 33696.223 | D37: =IF(A37="","",('Calculadora'!$C$9+IF(AND(B37>='Calculadora'!$C$21,B37<='Calculadora'!$C$22),'Calculadora'!$C$20,0))*(1+'Calculadora'!$C$12)^A37) -> 27170.424 | E37: =IF(A37="","",IF(AND(B37>='Calculadora'!$C$24,B37<='Calculadora'!$C$25),'Calculadora'!$C$23,0)*(1+'Calculadora'!$C$12)^A37) -> 0 | F37: =IF(A37="","",F36*(1+'Calculadora'!$C$29)+C36+E36-D36) -> 689956.86 | G37: =IF(A37="","",D37-E37+IF(A38="",0,MAX(0,G38/(1+'Calculadora'!$C$29)))) -> 540685.38 | H37: =IF(A37="","",IF('Calculadora'!$C$16="Con la regla del 4 %",IF(F37*'Calculadora'!$C$17>=D37-E37-1E-9,"Sí","No"),IF(F37>=G37-0.005,"Sí","No"))) -> Sí | I37: =IF(A37="","",J36) -> 542800.13 | J37: =IF(A37="","",IF(A37<IF(ISNUMBER('Calculadora'!$C$30),'Calculadora'!$C$30,'Calculadora'!$C$28),I37*(1+'Calculadora'!$C$29)+C37+E37-D37,MAX(0,I37-D37+E37)*(1+'Calculadora'!$C$29))) -> 541411.19 | K37: =IF(A37="","",J37/(1+'Calculadora'!$C$12)^(A37+1)) -> 293036.63
A38: =IF(31<'Calculadora'!$C$28,31,"") -> 31 | B38: =IF(A38="","",'Calculadora'!$C$7+A38) -> 67 | C38: =IF(A38="","",'Calculadora'!$C$8*(1+'Calculadora'!$C$13)^A38) -> 34033.185 | D38: =IF(A38="","",('Calculadora'!$C$9+IF(AND(B38>='Calculadora'!$C$21,B38<='Calculadora'!$C$22),'Calculadora'!$C$20,0))*(1+'Calculadora'!$C$12)^A38) -> 27713.832 | E38: =IF(A38="","",IF(AND(B38>='Calculadora'!$C$24,B38<='Calculadora'!$C$25),'Calculadora'!$C$23,0)*(1+'Calculadora'!$C$12)^A38) -> 0 | F38: =IF(A38="","",F37*(1+'Calculadora'!$C$29)+C37+E37-D37) -> 730980.51 | G38: =IF(A38="","",D38-E38+IF(A39="",0,MAX(0,G39/(1+'Calculadora'!$C$29)))) -> 539190.71 | H38: =IF(A38="","",IF('Calculadora'!$C$16="Con la regla del 4 %",IF(F38*'Calculadora'!$C$17>=D38-E38-1E-9,"Sí","No"),IF(F38>=G38-0.005,"Sí","No"))) -> Sí | I38: =IF(A38="","",J37) -> 541411.19 | J38: =IF(A38="","",IF(A38<IF(ISNUMBER('Calculadora'!$C$30),'Calculadora'!$C$30,'Calculadora'!$C$28),I38*(1+'Calculadora'!$C$29)+C38+E38-D38,MAX(0,I38-D38+E38)*(1+'Calculadora'!$C$29))) -> 539382.23 | K38: =IF(A38="","",J38/(1+'Calculadora'!$C$12)^(A38+1)) -> 286214.17
A39: =IF(32<'Calculadora'!$C$28,32,"") -> 32 | B39: =IF(A39="","",'Calculadora'!$C$7+A39) -> 68 | C39: =IF(A39="","",'Calculadora'!$C$8*(1+'Calculadora'!$C$13)^A39) -> 34373.517 | D39: =IF(A39="","",('Calculadora'!$C$9+IF(AND(B39>='Calculadora'!$C$21,B39<='Calculadora'!$C$22),'Calculadora'!$C$20,0))*(1+'Calculadora'!$C$12)^A39) -> 28268.109 | E39: =IF(A39="","",IF(AND(B39>='Calculadora'!$C$24,B39<='Calculadora'!$C$25),'Calculadora'!$C$23,0)*(1+'Calculadora'!$C$12)^A39) -> 0 | F39: =IF(A39="","",F38*(1+'Calculadora'!$C$29)+C38+E38-D38) -> 773848.88 | G39: =IF(A39="","",D39-E39+IF(A40="",0,MAX(0,G40/(1+'Calculadora'!$C$29)))) -> 537050.72 | H39: =IF(A39="","",IF('Calculadora'!$C$16="Con la regla del 4 %",IF(F39*'Calculadora'!$C$17>=D39-E39-1E-9,"Sí","No"),IF(F39>=G39-0.005,"Sí","No"))) -> Sí | I39: =IF(A39="","",J38) -> 539382.23 | J39: =IF(A39="","",IF(A39<IF(ISNUMBER('Calculadora'!$C$30),'Calculadora'!$C$30,'Calculadora'!$C$28),I39*(1+'Calculadora'!$C$29)+C39+E39-D39,MAX(0,I39-D39+E39)*(1+'Calculadora'!$C$29))) -> 536669.82 | K39: =IF(A39="","",J39/(1+'Calculadora'!$C$12)^(A39+1)) -> 279191.06
A40: =IF(33<'Calculadora'!$C$28,33,"") -> 33 | B40: =IF(A40="","",'Calculadora'!$C$7+A40) -> 69 | C40: =IF(A40="","",'Calculadora'!$C$8*(1+'Calculadora'!$C$13)^A40) -> 34717.252 | D40: =IF(A40="","",('Calculadora'!$C$9+IF(AND(B40>='Calculadora'!$C$21,B40<='Calculadora'!$C$22),'Calculadora'!$C$20,0))*(1+'Calculadora'!$C$12)^A40) -> 28833.471 | E40: =IF(A40="","",IF(AND(B40>='Calculadora'!$C$24,B40<='Calculadora'!$C$25),'Calculadora'!$C$23,0)*(1+'Calculadora'!$C$12)^A40) -> 0 | F40: =IF(A40="","",F39*(1+'Calculadora'!$C$29)+C39+E39-D39) -> 818646.74 | G40: =IF(A40="","",D40-E40+IF(A41="",0,MAX(0,G41/(1+'Calculadora'!$C$29)))) -> 534221.74 | H40: =IF(A40="","",IF('Calculadora'!$C$16="Con la regla del 4 %",IF(F40*'Calculadora'!$C$17>=D40-E40-1E-9,"Sí","No"),IF(F40>=G40-0.005,"Sí","No"))) -> Sí | I40: =IF(A40="","",J39) -> 536669.82 | J40: =IF(A40="","",IF(A40<IF(ISNUMBER('Calculadora'!$C$30),'Calculadora'!$C$30,'Calculadora'!$C$28),I40*(1+'Calculadora'!$C$29)+C40+E40-D40,MAX(0,I40-D40+E40)*(1+'Calculadora'!$C$29))) -> 533228.17 | K40: =IF(A40="","",J40/(1+'Calculadora'!$C$12)^(A40+1)) -> 271961.39
A41: =IF(34<'Calculadora'!$C$28,34,"") -> 34 | B41: =IF(A41="","",'Calculadora'!$C$7+A41) -> 70 | C41: =IF(A41="","",'Calculadora'!$C$8*(1+'Calculadora'!$C$13)^A41) -> 35064.425 | D41: =IF(A41="","",('Calculadora'!$C$9+IF(AND(B41>='Calculadora'!$C$21,B41<='Calculadora'!$C$22),'Calculadora'!$C$20,0))*(1+'Calculadora'!$C$12)^A41) -> 29410.14 | E41: =IF(A41="","",IF(AND(B41>='Calculadora'!$C$24,B41<='Calculadora'!$C$25),'Calculadora'!$C$23,0)*(1+'Calculadora'!$C$12)^A41) -> 0 | F41: =IF(A41="","",F40*(1+'Calculadora'!$C$29)+C40+E40-D40) -> 865462.86 | G41: =IF(A41="","",D41-E41+IF(A42="",0,MAX(0,G42/(1+'Calculadora'!$C$29)))) -> 530657.68 | H41: =IF(A41="","",IF('Calculadora'!$C$16="Con la regla del 4 %",IF(F41*'Calculadora'!$C$17>=D41-E41-1E-9,"Sí","No"),IF(F41>=G41-0.005,"Sí","No"))) -> Sí | I41: =IF(A41="","",J40) -> 533228.17 | J41: =IF(A41="","",IF(A41<IF(ISNUMBER('Calculadora'!$C$30),'Calculadora'!$C$30,'Calculadora'!$C$28),I41*(1+'Calculadora'!$C$29)+C41+E41-D41,MAX(0,I41-D41+E41)*(1+'Calculadora'!$C$29))) -> 529008.93 | K41: =IF(A41="","",J41/(1+'Calculadora'!$C$12)^(A41+1)) -> 264519.07
A42: =IF(35<'Calculadora'!$C$28,35,"") -> 35 | B42: =IF(A42="","",'Calculadora'!$C$7+A42) -> 71 | C42: =IF(A42="","",'Calculadora'!$C$8*(1+'Calculadora'!$C$13)^A42) -> 35415.069 | D42: =IF(A42="","",('Calculadora'!$C$9+IF(AND(B42>='Calculadora'!$C$21,B42<='Calculadora'!$C$22),'Calculadora'!$C$20,0))*(1+'Calculadora'!$C$12)^A42) -> 29998.343 | E42: =IF(A42="","",IF(AND(B42>='Calculadora'!$C$24,B42<='Calculadora'!$C$25),'Calculadora'!$C$23,0)*(1+'Calculadora'!$C$12)^A42) -> 0 | F42: =IF(A42="","",F41*(1+'Calculadora'!$C$29)+C41+E41-D41) -> 914390.28 | G42: =IF(A42="","",D42-E42+IF(A43="",0,MAX(0,G43/(1+'Calculadora'!$C$29)))) -> 526309.92 | H42: =IF(A42="","",IF('Calculadora'!$C$16="Con la regla del 4 %",IF(F42*'Calculadora'!$C$17>=D42-E42-1E-9,"Sí","No"),IF(F42>=G42-0.005,"Sí","No"))) -> Sí | I42: =IF(A42="","",J41) -> 529008.93 | J42: =IF(A42="","",IF(A42<IF(ISNUMBER('Calculadora'!$C$30),'Calculadora'!$C$30,'Calculadora'!$C$28),I42*(1+'Calculadora'!$C$29)+C42+E42-D42,MAX(0,I42-D42+E42)*(1+'Calculadora'!$C$29))) -> 523961.12 | K42: =IF(A42="","",J42/(1+'Calculadora'!$C$12)^(A42+1)) -> 256857.87
...

Sheet Cómo se usa
B2: Cómo se usa la plantilla de independencia financiera
B4: 1. Escribe tu edad, lo que ingresas y gastas al año, lo que ya tienes y la rentabilidad que esperas.
B5: 2. Por defecto, eres independiente cuando tu dinero te dura hasta la edad que elijas (95 años), retirando cada año tus gastos subidos con la inflación.
B6: 3. También puedes usar la regla del 4 %: eres independiente cuando el 4 % de lo que tienes cubre los gastos de un año.
B7: 4. Si tendrás un gasto o un ingreso solo unos años (estudios de tus hijos, pensión pública), añádelo con precios de hoy.
B8: 5. En «Año a año» ves, edad por edad, cuánto tendrías y cuánto necesitas.
B10: La rentabilidad no está garantizada. Prueba con 1 o 2 puntos menos para ver un escenario prudente.
B11: Las celdas naranjas son las que puedes cambiar. Las demás llevan fórmulas: si las borras, la plantilla deja de calcular.
B12: Funciona en Excel, en Google Sheets (súbela a Drive y ábrela con Hojas de cálculo) y en LibreOffice. No tiene macros.
B13: Las cifras no llevan símbolo de moneda: sirve para euros, pesos, dólares o cualquier otra.
B14: Es una estimación orientativa con las fórmulas habituales. Para una decisión importante, compara con la oferta o el contrato reales.
B16: Calculadora online con estos mismos cálculos: skilio.com/calculadoras/independencia-financiera/
