Workbook

Sheet Calculadora
B2: Inflación: cuánto valdrá tu dinero | D2: Plantilla de skilio.com/calculadoras/inflacion/
B3: Lo que pierde tu dinero con la subida de los precios.
B4: Cambia las celdas naranjas. Todo lo demás se calcula solo.
B6: Tus datos
B7: Cantidad de dinero | C7: 10000
B8: Inflación media al año | C8: 0.03 | D8: Lo que esperas que suban los precios cada año, de media.
B9: Años | C9: 10 | D9: Hasta 100.
B10: Lo que te rinde ese dinero al año (opcional) | C10: 0 | D10: Déjalo en 0 si está parado.
B12: Resultados
B13: Lo que valdrá tu dinero, en dinero de hoy | C13: =$C$7*(1+$C$10)^$C$9/(1+$C$8)^$C$9 -> 7440.9391
B14: Necesitarás para comprar lo mismo que hoy | C14: =$C$7*(1+$C$8)^$C$9 -> 13439.164
B15: Poder de compra que pierdes (o ganas, si sale negativo) | C15: =1-$C$13/$C$7 -> 0.25590609
B16: Subida total de los precios | C16: =(1+$C$8)^$C$9-1 -> 0.34391638
B17: Poder de compra que pierdes, en dinero de hoy | C17: =$C$7-$C$13 -> 2559.0609
B18: Los precios se duplican en (años) | C18: =IF($C$8>0,LN(2)/LN(1+$C$8),"") -> 23.449772
B19: Tendrás (sin descontar la inflación) | C19: =$C$7*(1+$C$10)^$C$9 -> 10000
B20: Rentabilidad real al año | C20: =(1+$C$10)/(1+$C$8)-1 -> -0.029126214
B21: Rentabilidad mínima para no perder | C21: =$C$8 -> 0.03

Sheet Año a año
B2: Año a año
B4: Plantilla de skilio.com/calculadoras/inflacion/
A5: Año | B5: Lo que cuesta lo que hoy compras con tu dinero | C5: Tu dinero | D5: Tu dinero, en dinero de hoy
A6: =IF(0<='Calculadora'!$C$9,0,"") -> 0 | B6: =IF(A6="","",'Calculadora'!$C$7*(1+'Calculadora'!$C$8)^A6) -> 10000 | C6: =IF(A6="","",'Calculadora'!$C$7*(1+'Calculadora'!$C$10)^A6) -> 10000 | D6: =IF(A6="","",C6/(1+'Calculadora'!$C$8)^A6) -> 10000
A7: =IF(1<='Calculadora'!$C$9,1,"") -> 1 | B7: =IF(A7="","",'Calculadora'!$C$7*(1+'Calculadora'!$C$8)^A7) -> 10300 | C7: =IF(A7="","",'Calculadora'!$C$7*(1+'Calculadora'!$C$10)^A7) -> 10000 | D7: =IF(A7="","",C7/(1+'Calculadora'!$C$8)^A7) -> 9708.7379
A8: =IF(2<='Calculadora'!$C$9,2,"") -> 2 | B8: =IF(A8="","",'Calculadora'!$C$7*(1+'Calculadora'!$C$8)^A8) -> 10609 | C8: =IF(A8="","",'Calculadora'!$C$7*(1+'Calculadora'!$C$10)^A8) -> 10000 | D8: =IF(A8="","",C8/(1+'Calculadora'!$C$8)^A8) -> 9425.9591
A9: =IF(3<='Calculadora'!$C$9,3,"") -> 3 | B9: =IF(A9="","",'Calculadora'!$C$7*(1+'Calculadora'!$C$8)^A9) -> 10927.27 | C9: =IF(A9="","",'Calculadora'!$C$7*(1+'Calculadora'!$C$10)^A9) -> 10000 | D9: =IF(A9="","",C9/(1+'Calculadora'!$C$8)^A9) -> 9151.4166
A10: =IF(4<='Calculadora'!$C$9,4,"") -> 4 | B10: =IF(A10="","",'Calculadora'!$C$7*(1+'Calculadora'!$C$8)^A10) -> 11255.088 | C10: =IF(A10="","",'Calculadora'!$C$7*(1+'Calculadora'!$C$10)^A10) -> 10000 | D10: =IF(A10="","",C10/(1+'Calculadora'!$C$8)^A10) -> 8884.8705
A11: =IF(5<='Calculadora'!$C$9,5,"") -> 5 | B11: =IF(A11="","",'Calculadora'!$C$7*(1+'Calculadora'!$C$8)^A11) -> 11592.741 | C11: =IF(A11="","",'Calculadora'!$C$7*(1+'Calculadora'!$C$10)^A11) -> 10000 | D11: =IF(A11="","",C11/(1+'Calculadora'!$C$8)^A11) -> 8626.0878
A12: =IF(6<='Calculadora'!$C$9,6,"") -> 6 | B12: =IF(A12="","",'Calculadora'!$C$7*(1+'Calculadora'!$C$8)^A12) -> 11940.523 | C12: =IF(A12="","",'Calculadora'!$C$7*(1+'Calculadora'!$C$10)^A12) -> 10000 | D12: =IF(A12="","",C12/(1+'Calculadora'!$C$8)^A12) -> 8374.8426
A13: =IF(7<='Calculadora'!$C$9,7,"") -> 7 | B13: =IF(A13="","",'Calculadora'!$C$7*(1+'Calculadora'!$C$8)^A13) -> 12298.739 | C13: =IF(A13="","",'Calculadora'!$C$7*(1+'Calculadora'!$C$10)^A13) -> 10000 | D13: =IF(A13="","",C13/(1+'Calculadora'!$C$8)^A13) -> 8130.9151
A14: =IF(8<='Calculadora'!$C$9,8,"") -> 8 | B14: =IF(A14="","",'Calculadora'!$C$7*(1+'Calculadora'!$C$8)^A14) -> 12667.701 | C14: =IF(A14="","",'Calculadora'!$C$7*(1+'Calculadora'!$C$10)^A14) -> 10000 | D14: =IF(A14="","",C14/(1+'Calculadora'!$C$8)^A14) -> 7894.0923
A15: =IF(9<='Calculadora'!$C$9,9,"") -> 9 | B15: =IF(A15="","",'Calculadora'!$C$7*(1+'Calculadora'!$C$8)^A15) -> 13047.732 | C15: =IF(A15="","",'Calculadora'!$C$7*(1+'Calculadora'!$C$10)^A15) -> 10000 | D15: =IF(A15="","",C15/(1+'Calculadora'!$C$8)^A15) -> 7664.1673
A16: =IF(10<='Calculadora'!$C$9,10,"") -> 10 | B16: =IF(A16="","",'Calculadora'!$C$7*(1+'Calculadora'!$C$8)^A16) -> 13439.164 | C16: =IF(A16="","",'Calculadora'!$C$7*(1+'Calculadora'!$C$10)^A16) -> 10000 | D16: =IF(A16="","",C16/(1+'Calculadora'!$C$8)^A16) -> 7440.9391
A17: =IF(11<='Calculadora'!$C$9,11,"") | B17: =IF(A17="","",'Calculadora'!$C$7*(1+'Calculadora'!$C$8)^A17) | C17: =IF(A17="","",'Calculadora'!$C$7*(1+'Calculadora'!$C$10)^A17) | D17: =IF(A17="","",C17/(1+'Calculadora'!$C$8)^A17)
A18: =IF(12<='Calculadora'!$C$9,12,"") | B18: =IF(A18="","",'Calculadora'!$C$7*(1+'Calculadora'!$C$8)^A18) | C18: =IF(A18="","",'Calculadora'!$C$7*(1+'Calculadora'!$C$10)^A18) | D18: =IF(A18="","",C18/(1+'Calculadora'!$C$8)^A18)
A19: =IF(13<='Calculadora'!$C$9,13,"") | B19: =IF(A19="","",'Calculadora'!$C$7*(1+'Calculadora'!$C$8)^A19) | C19: =IF(A19="","",'Calculadora'!$C$7*(1+'Calculadora'!$C$10)^A19) | D19: =IF(A19="","",C19/(1+'Calculadora'!$C$8)^A19)
A20: =IF(14<='Calculadora'!$C$9,14,"") | B20: =IF(A20="","",'Calculadora'!$C$7*(1+'Calculadora'!$C$8)^A20) | C20: =IF(A20="","",'Calculadora'!$C$7*(1+'Calculadora'!$C$10)^A20) | D20: =IF(A20="","",C20/(1+'Calculadora'!$C$8)^A20)
A21: =IF(15<='Calculadora'!$C$9,15,"") | B21: =IF(A21="","",'Calculadora'!$C$7*(1+'Calculadora'!$C$8)^A21) | C21: =IF(A21="","",'Calculadora'!$C$7*(1+'Calculadora'!$C$10)^A21) | D21: =IF(A21="","",C21/(1+'Calculadora'!$C$8)^A21)
A22: =IF(16<='Calculadora'!$C$9,16,"") | B22: =IF(A22="","",'Calculadora'!$C$7*(1+'Calculadora'!$C$8)^A22) | C22: =IF(A22="","",'Calculadora'!$C$7*(1+'Calculadora'!$C$10)^A22) | D22: =IF(A22="","",C22/(1+'Calculadora'!$C$8)^A22)
A23: =IF(17<='Calculadora'!$C$9,17,"") | B23: =IF(A23="","",'Calculadora'!$C$7*(1+'Calculadora'!$C$8)^A23) | C23: =IF(A23="","",'Calculadora'!$C$7*(1+'Calculadora'!$C$10)^A23) | D23: =IF(A23="","",C23/(1+'Calculadora'!$C$8)^A23)
A24: =IF(18<='Calculadora'!$C$9,18,"") | B24: =IF(A24="","",'Calculadora'!$C$7*(1+'Calculadora'!$C$8)^A24) | C24: =IF(A24="","",'Calculadora'!$C$7*(1+'Calculadora'!$C$10)^A24) | D24: =IF(A24="","",C24/(1+'Calculadora'!$C$8)^A24)
A25: =IF(19<='Calculadora'!$C$9,19,"") | B25: =IF(A25="","",'Calculadora'!$C$7*(1+'Calculadora'!$C$8)^A25) | C25: =IF(A25="","",'Calculadora'!$C$7*(1+'Calculadora'!$C$10)^A25) | D25: =IF(A25="","",C25/(1+'Calculadora'!$C$8)^A25)
A26: =IF(20<='Calculadora'!$C$9,20,"") | B26: =IF(A26="","",'Calculadora'!$C$7*(1+'Calculadora'!$C$8)^A26) | C26: =IF(A26="","",'Calculadora'!$C$7*(1+'Calculadora'!$C$10)^A26) | D26: =IF(A26="","",C26/(1+'Calculadora'!$C$8)^A26)
A27: =IF(21<='Calculadora'!$C$9,21,"") | B27: =IF(A27="","",'Calculadora'!$C$7*(1+'Calculadora'!$C$8)^A27) | C27: =IF(A27="","",'Calculadora'!$C$7*(1+'Calculadora'!$C$10)^A27) | D27: =IF(A27="","",C27/(1+'Calculadora'!$C$8)^A27)
A28: =IF(22<='Calculadora'!$C$9,22,"") | B28: =IF(A28="","",'Calculadora'!$C$7*(1+'Calculadora'!$C$8)^A28) | C28: =IF(A28="","",'Calculadora'!$C$7*(1+'Calculadora'!$C$10)^A28) | D28: =IF(A28="","",C28/(1+'Calculadora'!$C$8)^A28)
A29: =IF(23<='Calculadora'!$C$9,23,"") | B29: =IF(A29="","",'Calculadora'!$C$7*(1+'Calculadora'!$C$8)^A29) | C29: =IF(A29="","",'Calculadora'!$C$7*(1+'Calculadora'!$C$10)^A29) | D29: =IF(A29="","",C29/(1+'Calculadora'!$C$8)^A29)
A30: =IF(24<='Calculadora'!$C$9,24,"") | B30: =IF(A30="","",'Calculadora'!$C$7*(1+'Calculadora'!$C$8)^A30) | C30: =IF(A30="","",'Calculadora'!$C$7*(1+'Calculadora'!$C$10)^A30) | D30: =IF(A30="","",C30/(1+'Calculadora'!$C$8)^A30)
A31: =IF(25<='Calculadora'!$C$9,25,"") | B31: =IF(A31="","",'Calculadora'!$C$7*(1+'Calculadora'!$C$8)^A31) | C31: =IF(A31="","",'Calculadora'!$C$7*(1+'Calculadora'!$C$10)^A31) | D31: =IF(A31="","",C31/(1+'Calculadora'!$C$8)^A31)
A32: =IF(26<='Calculadora'!$C$9,26,"") | B32: =IF(A32="","",'Calculadora'!$C$7*(1+'Calculadora'!$C$8)^A32) | C32: =IF(A32="","",'Calculadora'!$C$7*(1+'Calculadora'!$C$10)^A32) | D32: =IF(A32="","",C32/(1+'Calculadora'!$C$8)^A32)
A33: =IF(27<='Calculadora'!$C$9,27,"") | B33: =IF(A33="","",'Calculadora'!$C$7*(1+'Calculadora'!$C$8)^A33) | C33: =IF(A33="","",'Calculadora'!$C$7*(1+'Calculadora'!$C$10)^A33) | D33: =IF(A33="","",C33/(1+'Calculadora'!$C$8)^A33)
A34: =IF(28<='Calculadora'!$C$9,28,"") | B34: =IF(A34="","",'Calculadora'!$C$7*(1+'Calculadora'!$C$8)^A34) | C34: =IF(A34="","",'Calculadora'!$C$7*(1+'Calculadora'!$C$10)^A34) | D34: =IF(A34="","",C34/(1+'Calculadora'!$C$8)^A34)
A35: =IF(29<='Calculadora'!$C$9,29,"") | B35: =IF(A35="","",'Calculadora'!$C$7*(1+'Calculadora'!$C$8)^A35) | C35: =IF(A35="","",'Calculadora'!$C$7*(1+'Calculadora'!$C$10)^A35) | D35: =IF(A35="","",C35/(1+'Calculadora'!$C$8)^A35)
A36: =IF(30<='Calculadora'!$C$9,30,"") | B36: =IF(A36="","",'Calculadora'!$C$7*(1+'Calculadora'!$C$8)^A36) | C36: =IF(A36="","",'Calculadora'!$C$7*(1+'Calculadora'!$C$10)^A36) | D36: =IF(A36="","",C36/(1+'Calculadora'!$C$8)^A36)
A37: =IF(31<='Calculadora'!$C$9,31,"") | B37: =IF(A37="","",'Calculadora'!$C$7*(1+'Calculadora'!$C$8)^A37) | C37: =IF(A37="","",'Calculadora'!$C$7*(1+'Calculadora'!$C$10)^A37) | D37: =IF(A37="","",C37/(1+'Calculadora'!$C$8)^A37)
A38: =IF(32<='Calculadora'!$C$9,32,"") | B38: =IF(A38="","",'Calculadora'!$C$7*(1+'Calculadora'!$C$8)^A38) | C38: =IF(A38="","",'Calculadora'!$C$7*(1+'Calculadora'!$C$10)^A38) | D38: =IF(A38="","",C38/(1+'Calculadora'!$C$8)^A38)
A39: =IF(33<='Calculadora'!$C$9,33,"") | B39: =IF(A39="","",'Calculadora'!$C$7*(1+'Calculadora'!$C$8)^A39) | C39: =IF(A39="","",'Calculadora'!$C$7*(1+'Calculadora'!$C$10)^A39) | D39: =IF(A39="","",C39/(1+'Calculadora'!$C$8)^A39)
A40: =IF(34<='Calculadora'!$C$9,34,"") | B40: =IF(A40="","",'Calculadora'!$C$7*(1+'Calculadora'!$C$8)^A40) | C40: =IF(A40="","",'Calculadora'!$C$7*(1+'Calculadora'!$C$10)^A40) | D40: =IF(A40="","",C40/(1+'Calculadora'!$C$8)^A40)
A41: =IF(35<='Calculadora'!$C$9,35,"") | B41: =IF(A41="","",'Calculadora'!$C$7*(1+'Calculadora'!$C$8)^A41) | C41: =IF(A41="","",'Calculadora'!$C$7*(1+'Calculadora'!$C$10)^A41) | D41: =IF(A41="","",C41/(1+'Calculadora'!$C$8)^A41)
A42: =IF(36<='Calculadora'!$C$9,36,"") | B42: =IF(A42="","",'Calculadora'!$C$7*(1+'Calculadora'!$C$8)^A42) | C42: =IF(A42="","",'Calculadora'!$C$7*(1+'Calculadora'!$C$10)^A42) | D42: =IF(A42="","",C42/(1+'Calculadora'!$C$8)^A42)
A43: =IF(37<='Calculadora'!$C$9,37,"") | B43: =IF(A43="","",'Calculadora'!$C$7*(1+'Calculadora'!$C$8)^A43) | C43: =IF(A43="","",'Calculadora'!$C$7*(1+'Calculadora'!$C$10)^A43) | D43: =IF(A43="","",C43/(1+'Calculadora'!$C$8)^A43)
A44: =IF(38<='Calculadora'!$C$9,38,"") | B44: =IF(A44="","",'Calculadora'!$C$7*(1+'Calculadora'!$C$8)^A44) | C44: =IF(A44="","",'Calculadora'!$C$7*(1+'Calculadora'!$C$10)^A44) | D44: =IF(A44="","",C44/(1+'Calculadora'!$C$8)^A44)
A45: =IF(39<='Calculadora'!$C$9,39,"") | B45: =IF(A45="","",'Calculadora'!$C$7*(1+'Calculadora'!$C$8)^A45) | C45: =IF(A45="","",'Calculadora'!$C$7*(1+'Calculadora'!$C$10)^A45) | D45: =IF(A45="","",C45/(1+'Calculadora'!$C$8)^A45)
A46: =IF(40<='Calculadora'!$C$9,40,"") | B46: =IF(A46="","",'Calculadora'!$C$7*(1+'Calculadora'!$C$8)^A46) | C46: =IF(A46="","",'Calculadora'!$C$7*(1+'Calculadora'!$C$10)^A46) | D46: =IF(A46="","",C46/(1+'Calculadora'!$C$8)^A46)
A47: =IF(41<='Calculadora'!$C$9,41,"") | B47: =IF(A47="","",'Calculadora'!$C$7*(1+'Calculadora'!$C$8)^A47) | C47: =IF(A47="","",'Calculadora'!$C$7*(1+'Calculadora'!$C$10)^A47) | D47: =IF(A47="","",C47/(1+'Calculadora'!$C$8)^A47)
A48: =IF(42<='Calculadora'!$C$9,42,"") | B48: =IF(A48="","",'Calculadora'!$C$7*(1+'Calculadora'!$C$8)^A48) | C48: =IF(A48="","",'Calculadora'!$C$7*(1+'Calculadora'!$C$10)^A48) | D48: =IF(A48="","",C48/(1+'Calculadora'!$C$8)^A48)
A49: =IF(43<='Calculadora'!$C$9,43,"") | B49: =IF(A49="","",'Calculadora'!$C$7*(1+'Calculadora'!$C$8)^A49) | C49: =IF(A49="","",'Calculadora'!$C$7*(1+'Calculadora'!$C$10)^A49) | D49: =IF(A49="","",C49/(1+'Calculadora'!$C$8)^A49)
A50: =IF(44<='Calculadora'!$C$9,44,"") | B50: =IF(A50="","",'Calculadora'!$C$7*(1+'Calculadora'!$C$8)^A50) | C50: =IF(A50="","",'Calculadora'!$C$7*(1+'Calculadora'!$C$10)^A50) | D50: =IF(A50="","",C50/(1+'Calculadora'!$C$8)^A50)
A51: =IF(45<='Calculadora'!$C$9,45,"") | B51: =IF(A51="","",'Calculadora'!$C$7*(1+'Calculadora'!$C$8)^A51) | C51: =IF(A51="","",'Calculadora'!$C$7*(1+'Calculadora'!$C$10)^A51) | D51: =IF(A51="","",C51/(1+'Calculadora'!$C$8)^A51)
A52: =IF(46<='Calculadora'!$C$9,46,"") | B52: =IF(A52="","",'Calculadora'!$C$7*(1+'Calculadora'!$C$8)^A52) | C52: =IF(A52="","",'Calculadora'!$C$7*(1+'Calculadora'!$C$10)^A52) | D52: =IF(A52="","",C52/(1+'Calculadora'!$C$8)^A52)
A53: =IF(47<='Calculadora'!$C$9,47,"") | B53: =IF(A53="","",'Calculadora'!$C$7*(1+'Calculadora'!$C$8)^A53) | C53: =IF(A53="","",'Calculadora'!$C$7*(1+'Calculadora'!$C$10)^A53) | D53: =IF(A53="","",C53/(1+'Calculadora'!$C$8)^A53)
A54: =IF(48<='Calculadora'!$C$9,48,"") | B54: =IF(A54="","",'Calculadora'!$C$7*(1+'Calculadora'!$C$8)^A54) | C54: =IF(A54="","",'Calculadora'!$C$7*(1+'Calculadora'!$C$10)^A54) | D54: =IF(A54="","",C54/(1+'Calculadora'!$C$8)^A54)
A55: =IF(49<='Calculadora'!$C$9,49,"") | B55: =IF(A55="","",'Calculadora'!$C$7*(1+'Calculadora'!$C$8)^A55) | C55: =IF(A55="","",'Calculadora'!$C$7*(1+'Calculadora'!$C$10)^A55) | D55: =IF(A55="","",C55/(1+'Calculadora'!$C$8)^A55)
A56: =IF(50<='Calculadora'!$C$9,50,"") | B56: =IF(A56="","",'Calculadora'!$C$7*(1+'Calculadora'!$C$8)^A56) | C56: =IF(A56="","",'Calculadora'!$C$7*(1+'Calculadora'!$C$10)^A56) | D56: =IF(A56="","",C56/(1+'Calculadora'!$C$8)^A56)
A57: =IF(51<='Calculadora'!$C$9,51,"") | B57: =IF(A57="","",'Calculadora'!$C$7*(1+'Calculadora'!$C$8)^A57) | C57: =IF(A57="","",'Calculadora'!$C$7*(1+'Calculadora'!$C$10)^A57) | D57: =IF(A57="","",C57/(1+'Calculadora'!$C$8)^A57)
A58: =IF(52<='Calculadora'!$C$9,52,"") | B58: =IF(A58="","",'Calculadora'!$C$7*(1+'Calculadora'!$C$8)^A58) | C58: =IF(A58="","",'Calculadora'!$C$7*(1+'Calculadora'!$C$10)^A58) | D58: =IF(A58="","",C58/(1+'Calculadora'!$C$8)^A58)
A59: =IF(53<='Calculadora'!$C$9,53,"") | B59: =IF(A59="","",'Calculadora'!$C$7*(1+'Calculadora'!$C$8)^A59) | C59: =IF(A59="","",'Calculadora'!$C$7*(1+'Calculadora'!$C$10)^A59) | D59: =IF(A59="","",C59/(1+'Calculadora'!$C$8)^A59)
A60: =IF(54<='Calculadora'!$C$9,54,"") | B60: =IF(A60="","",'Calculadora'!$C$7*(1+'Calculadora'!$C$8)^A60) | C60: =IF(A60="","",'Calculadora'!$C$7*(1+'Calculadora'!$C$10)^A60) | D60: =IF(A60="","",C60/(1+'Calculadora'!$C$8)^A60)
A61: =IF(55<='Calculadora'!$C$9,55,"") | B61: =IF(A61="","",'Calculadora'!$C$7*(1+'Calculadora'!$C$8)^A61) | C61: =IF(A61="","",'Calculadora'!$C$7*(1+'Calculadora'!$C$10)^A61) | D61: =IF(A61="","",C61/(1+'Calculadora'!$C$8)^A61)
A62: =IF(56<='Calculadora'!$C$9,56,"") | B62: =IF(A62="","",'Calculadora'!$C$7*(1+'Calculadora'!$C$8)^A62) | C62: =IF(A62="","",'Calculadora'!$C$7*(1+'Calculadora'!$C$10)^A62) | D62: =IF(A62="","",C62/(1+'Calculadora'!$C$8)^A62)
A63: =IF(57<='Calculadora'!$C$9,57,"") | B63: =IF(A63="","",'Calculadora'!$C$7*(1+'Calculadora'!$C$8)^A63) | C63: =IF(A63="","",'Calculadora'!$C$7*(1+'Calculadora'!$C$10)^A63) | D63: =IF(A63="","",C63/(1+'Calculadora'!$C$8)^A63)
A64: =IF(58<='Calculadora'!$C$9,58,"") | B64: =IF(A64="","",'Calculadora'!$C$7*(1+'Calculadora'!$C$8)^A64) | C64: =IF(A64="","",'Calculadora'!$C$7*(1+'Calculadora'!$C$10)^A64) | D64: =IF(A64="","",C64/(1+'Calculadora'!$C$8)^A64)
A65: =IF(59<='Calculadora'!$C$9,59,"") | B65: =IF(A65="","",'Calculadora'!$C$7*(1+'Calculadora'!$C$8)^A65) | C65: =IF(A65="","",'Calculadora'!$C$7*(1+'Calculadora'!$C$10)^A65) | D65: =IF(A65="","",C65/(1+'Calculadora'!$C$8)^A65)
A66: =IF(60<='Calculadora'!$C$9,60,"") | B66: =IF(A66="","",'Calculadora'!$C$7*(1+'Calculadora'!$C$8)^A66) | C66: =IF(A66="","",'Calculadora'!$C$7*(1+'Calculadora'!$C$10)^A66) | D66: =IF(A66="","",C66/(1+'Calculadora'!$C$8)^A66)
A67: =IF(61<='Calculadora'!$C$9,61,"") | B67: =IF(A67="","",'Calculadora'!$C$7*(1+'Calculadora'!$C$8)^A67) | C67: =IF(A67="","",'Calculadora'!$C$7*(1+'Calculadora'!$C$10)^A67) | D67: =IF(A67="","",C67/(1+'Calculadora'!$C$8)^A67)
A68: =IF(62<='Calculadora'!$C$9,62,"") | B68: =IF(A68="","",'Calculadora'!$C$7*(1+'Calculadora'!$C$8)^A68) | C68: =IF(A68="","",'Calculadora'!$C$7*(1+'Calculadora'!$C$10)^A68) | D68: =IF(A68="","",C68/(1+'Calculadora'!$C$8)^A68)
A69: =IF(63<='Calculadora'!$C$9,63,"") | B69: =IF(A69="","",'Calculadora'!$C$7*(1+'Calculadora'!$C$8)^A69) | C69: =IF(A69="","",'Calculadora'!$C$7*(1+'Calculadora'!$C$10)^A69) | D69: =IF(A69="","",C69/(1+'Calculadora'!$C$8)^A69)
A70: =IF(64<='Calculadora'!$C$9,64,"") | B70: =IF(A70="","",'Calculadora'!$C$7*(1+'Calculadora'!$C$8)^A70) | C70: =IF(A70="","",'Calculadora'!$C$7*(1+'Calculadora'!$C$10)^A70) | D70: =IF(A70="","",C70/(1+'Calculadora'!$C$8)^A70)
A71: =IF(65<='Calculadora'!$C$9,65,"") | B71: =IF(A71="","",'Calculadora'!$C$7*(1+'Calculadora'!$C$8)^A71) | C71: =IF(A71="","",'Calculadora'!$C$7*(1+'Calculadora'!$C$10)^A71) | D71: =IF(A71="","",C71/(1+'Calculadora'!$C$8)^A71)
A72: =IF(66<='Calculadora'!$C$9,66,"") | B72: =IF(A72="","",'Calculadora'!$C$7*(1+'Calculadora'!$C$8)^A72) | C72: =IF(A72="","",'Calculadora'!$C$7*(1+'Calculadora'!$C$10)^A72) | D72: =IF(A72="","",C72/(1+'Calculadora'!$C$8)^A72)
A73: =IF(67<='Calculadora'!$C$9,67,"") | B73: =IF(A73="","",'Calculadora'!$C$7*(1+'Calculadora'!$C$8)^A73) | C73: =IF(A73="","",'Calculadora'!$C$7*(1+'Calculadora'!$C$10)^A73) | D73: =IF(A73="","",C73/(1+'Calculadora'!$C$8)^A73)
A74: =IF(68<='Calculadora'!$C$9,68,"") | B74: =IF(A74="","",'Calculadora'!$C$7*(1+'Calculadora'!$C$8)^A74) | C74: =IF(A74="","",'Calculadora'!$C$7*(1+'Calculadora'!$C$10)^A74) | D74: =IF(A74="","",C74/(1+'Calculadora'!$C$8)^A74)
A75: =IF(69<='Calculadora'!$C$9,69,"") | B75: =IF(A75="","",'Calculadora'!$C$7*(1+'Calculadora'!$C$8)^A75) | C75: =IF(A75="","",'Calculadora'!$C$7*(1+'Calculadora'!$C$10)^A75) | D75: =IF(A75="","",C75/(1+'Calculadora'!$C$8)^A75)
A76: =IF(70<='Calculadora'!$C$9,70,"") | B76: =IF(A76="","",'Calculadora'!$C$7*(1+'Calculadora'!$C$8)^A76) | C76: =IF(A76="","",'Calculadora'!$C$7*(1+'Calculadora'!$C$10)^A76) | D76: =IF(A76="","",C76/(1+'Calculadora'!$C$8)^A76)
A77: =IF(71<='Calculadora'!$C$9,71,"") | B77: =IF(A77="","",'Calculadora'!$C$7*(1+'Calculadora'!$C$8)^A77) | C77: =IF(A77="","",'Calculadora'!$C$7*(1+'Calculadora'!$C$10)^A77) | D77: =IF(A77="","",C77/(1+'Calculadora'!$C$8)^A77)
A78: =IF(72<='Calculadora'!$C$9,72,"") | B78: =IF(A78="","",'Calculadora'!$C$7*(1+'Calculadora'!$C$8)^A78) | C78: =IF(A78="","",'Calculadora'!$C$7*(1+'Calculadora'!$C$10)^A78) | D78: =IF(A78="","",C78/(1+'Calculadora'!$C$8)^A78)
A79: =IF(73<='Calculadora'!$C$9,73,"") | B79: =IF(A79="","",'Calculadora'!$C$7*(1+'Calculadora'!$C$8)^A79) | C79: =IF(A79="","",'Calculadora'!$C$7*(1+'Calculadora'!$C$10)^A79) | D79: =IF(A79="","",C79/(1+'Calculadora'!$C$8)^A79)
A80: =IF(74<='Calculadora'!$C$9,74,"") | B80: =IF(A80="","",'Calculadora'!$C$7*(1+'Calculadora'!$C$8)^A80) | C80: =IF(A80="","",'Calculadora'!$C$7*(1+'Calculadora'!$C$10)^A80) | D80: =IF(A80="","",C80/(1+'Calculadora'!$C$8)^A80)
A81: =IF(75<='Calculadora'!$C$9,75,"") | B81: =IF(A81="","",'Calculadora'!$C$7*(1+'Calculadora'!$C$8)^A81) | C81: =IF(A81="","",'Calculadora'!$C$7*(1+'Calculadora'!$C$10)^A81) | D81: =IF(A81="","",C81/(1+'Calculadora'!$C$8)^A81)
A82: =IF(76<='Calculadora'!$C$9,76,"") | B82: =IF(A82="","",'Calculadora'!$C$7*(1+'Calculadora'!$C$8)^A82) | C82: =IF(A82="","",'Calculadora'!$C$7*(1+'Calculadora'!$C$10)^A82) | D82: =IF(A82="","",C82/(1+'Calculadora'!$C$8)^A82)
A83: =IF(77<='Calculadora'!$C$9,77,"") | B83: =IF(A83="","",'Calculadora'!$C$7*(1+'Calculadora'!$C$8)^A83) | C83: =IF(A83="","",'Calculadora'!$C$7*(1+'Calculadora'!$C$10)^A83) | D83: =IF(A83="","",C83/(1+'Calculadora'!$C$8)^A83)
A84: =IF(78<='Calculadora'!$C$9,78,"") | B84: =IF(A84="","",'Calculadora'!$C$7*(1+'Calculadora'!$C$8)^A84) | C84: =IF(A84="","",'Calculadora'!$C$7*(1+'Calculadora'!$C$10)^A84) | D84: =IF(A84="","",C84/(1+'Calculadora'!$C$8)^A84)
A85: =IF(79<='Calculadora'!$C$9,79,"") | B85: =IF(A85="","",'Calculadora'!$C$7*(1+'Calculadora'!$C$8)^A85) | C85: =IF(A85="","",'Calculadora'!$C$7*(1+'Calculadora'!$C$10)^A85) | D85: =IF(A85="","",C85/(1+'Calculadora'!$C$8)^A85)
A86: =IF(80<='Calculadora'!$C$9,80,"") | B86: =IF(A86="","",'Calculadora'!$C$7*(1+'Calculadora'!$C$8)^A86) | C86: =IF(A86="","",'Calculadora'!$C$7*(1+'Calculadora'!$C$10)^A86) | D86: =IF(A86="","",C86/(1+'Calculadora'!$C$8)^A86)
A87: =IF(81<='Calculadora'!$C$9,81,"") | B87: =IF(A87="","",'Calculadora'!$C$7*(1+'Calculadora'!$C$8)^A87) | C87: =IF(A87="","",'Calculadora'!$C$7*(1+'Calculadora'!$C$10)^A87) | D87: =IF(A87="","",C87/(1+'Calculadora'!$C$8)^A87)
A88: =IF(82<='Calculadora'!$C$9,82,"") | B88: =IF(A88="","",'Calculadora'!$C$7*(1+'Calculadora'!$C$8)^A88) | C88: =IF(A88="","",'Calculadora'!$C$7*(1+'Calculadora'!$C$10)^A88) | D88: =IF(A88="","",C88/(1+'Calculadora'!$C$8)^A88)
A89: =IF(83<='Calculadora'!$C$9,83,"") | B89: =IF(A89="","",'Calculadora'!$C$7*(1+'Calculadora'!$C$8)^A89) | C89: =IF(A89="","",'Calculadora'!$C$7*(1+'Calculadora'!$C$10)^A89) | D89: =IF(A89="","",C89/(1+'Calculadora'!$C$8)^A89)
A90: =IF(84<='Calculadora'!$C$9,84,"") | B90: =IF(A90="","",'Calculadora'!$C$7*(1+'Calculadora'!$C$8)^A90) | C90: =IF(A90="","",'Calculadora'!$C$7*(1+'Calculadora'!$C$10)^A90) | D90: =IF(A90="","",C90/(1+'Calculadora'!$C$8)^A90)
A91: =IF(85<='Calculadora'!$C$9,85,"") | B91: =IF(A91="","",'Calculadora'!$C$7*(1+'Calculadora'!$C$8)^A91) | C91: =IF(A91="","",'Calculadora'!$C$7*(1+'Calculadora'!$C$10)^A91) | D91: =IF(A91="","",C91/(1+'Calculadora'!$C$8)^A91)
A92: =IF(86<='Calculadora'!$C$9,86,"") | B92: =IF(A92="","",'Calculadora'!$C$7*(1+'Calculadora'!$C$8)^A92) | C92: =IF(A92="","",'Calculadora'!$C$7*(1+'Calculadora'!$C$10)^A92) | D92: =IF(A92="","",C92/(1+'Calculadora'!$C$8)^A92)
A93: =IF(87<='Calculadora'!$C$9,87,"") | B93: =IF(A93="","",'Calculadora'!$C$7*(1+'Calculadora'!$C$8)^A93) | C93: =IF(A93="","",'Calculadora'!$C$7*(1+'Calculadora'!$C$10)^A93) | D93: =IF(A93="","",C93/(1+'Calculadora'!$C$8)^A93)
A94: =IF(88<='Calculadora'!$C$9,88,"") | B94: =IF(A94="","",'Calculadora'!$C$7*(1+'Calculadora'!$C$8)^A94) | C94: =IF(A94="","",'Calculadora'!$C$7*(1+'Calculadora'!$C$10)^A94) | D94: =IF(A94="","",C94/(1+'Calculadora'!$C$8)^A94)
A95: =IF(89<='Calculadora'!$C$9,89,"") | B95: =IF(A95="","",'Calculadora'!$C$7*(1+'Calculadora'!$C$8)^A95) | C95: =IF(A95="","",'Calculadora'!$C$7*(1+'Calculadora'!$C$10)^A95) | D95: =IF(A95="","",C95/(1+'Calculadora'!$C$8)^A95)
A96: =IF(90<='Calculadora'!$C$9,90,"") | B96: =IF(A96="","",'Calculadora'!$C$7*(1+'Calculadora'!$C$8)^A96) | C96: =IF(A96="","",'Calculadora'!$C$7*(1+'Calculadora'!$C$10)^A96) | D96: =IF(A96="","",C96/(1+'Calculadora'!$C$8)^A96)
A97: =IF(91<='Calculadora'!$C$9,91,"") | B97: =IF(A97="","",'Calculadora'!$C$7*(1+'Calculadora'!$C$8)^A97) | C97: =IF(A97="","",'Calculadora'!$C$7*(1+'Calculadora'!$C$10)^A97) | D97: =IF(A97="","",C97/(1+'Calculadora'!$C$8)^A97)
A98: =IF(92<='Calculadora'!$C$9,92,"") | B98: =IF(A98="","",'Calculadora'!$C$7*(1+'Calculadora'!$C$8)^A98) | C98: =IF(A98="","",'Calculadora'!$C$7*(1+'Calculadora'!$C$10)^A98) | D98: =IF(A98="","",C98/(1+'Calculadora'!$C$8)^A98)
A99: =IF(93<='Calculadora'!$C$9,93,"") | B99: =IF(A99="","",'Calculadora'!$C$7*(1+'Calculadora'!$C$8)^A99) | C99: =IF(A99="","",'Calculadora'!$C$7*(1+'Calculadora'!$C$10)^A99) | D99: =IF(A99="","",C99/(1+'Calculadora'!$C$8)^A99)
A100: =IF(94<='Calculadora'!$C$9,94,"") | B100: =IF(A100="","",'Calculadora'!$C$7*(1+'Calculadora'!$C$8)^A100) | C100: =IF(A100="","",'Calculadora'!$C$7*(1+'Calculadora'!$C$10)^A100) | D100: =IF(A100="","",C100/(1+'Calculadora'!$C$8)^A100)
A101: =IF(95<='Calculadora'!$C$9,95,"") | B101: =IF(A101="","",'Calculadora'!$C$7*(1+'Calculadora'!$C$8)^A101) | C101: =IF(A101="","",'Calculadora'!$C$7*(1+'Calculadora'!$C$10)^A101) | D101: =IF(A101="","",C101/(1+'Calculadora'!$C$8)^A101)
A102: =IF(96<='Calculadora'!$C$9,96,"") | B102: =IF(A102="","",'Calculadora'!$C$7*(1+'Calculadora'!$C$8)^A102) | C102: =IF(A102="","",'Calculadora'!$C$7*(1+'Calculadora'!$C$10)^A102) | D102: =IF(A102="","",C102/(1+'Calculadora'!$C$8)^A102)
...

Sheet Cómo se usa
B2: Cómo se usa la plantilla de inflación
B4: 1. Escribe una cantidad, la inflación media que esperas y los años.
B5: 2. «En dinero de hoy» quiere decir lo que podrás comprar con ese dinero, a precios de ahora.
B6: 3. Si tu dinero da intereses, escribe cuánto rinde al año para ver si le gana a la inflación.
B7: 4. En «Año a año» ves la evolución y el gráfico de los primeros 30 años.
B9: Usa la inflación oficial de tu país o la media de los últimos años. Muchos bancos centrales buscan que ronde el 2 %.
B10: Las celdas naranjas son las que puedes cambiar. Las demás llevan fórmulas: si las borras, la plantilla deja de calcular.
B11: Funciona en Excel, en Google Sheets (súbela a Drive y ábrela con Hojas de cálculo) y en LibreOffice. No tiene macros.
B12: Las cifras no llevan símbolo de moneda: sirve para euros, pesos, dólares o cualquier otra.
B13: Es una estimación orientativa con las fórmulas habituales. Para una decisión importante, compara con la oferta o el contrato reales.
B15: Calculadora online con estos mismos cálculos: skilio.com/calculadoras/inflacion/
