Workbook

Sheet Calculadora
B2: Inflación: cuánto valdrá tu dinero | D2: Plantilla de skilio.com/calculadoras/inflacion/
B3: Lo que pierde tu dinero con la subida de los precios.
B4: Cambia las celdas naranjas. Todo lo demás se calcula solo.
B6: Tus datos
B7: Cantidad de dinero | C7: 10000
B8: Inflación media al año | C8: 0.03 | D8: Lo que esperas que suban los precios cada año, de media.
B9: Años | C9: 10 | D9: Hasta 100.
B10: Lo que te rinde ese dinero al año (opcional) | C10: 0 | D10: Déjalo en 0 si está parado.
B12: Resultados
B13: Lo que valdrá tu dinero, en dinero de hoy | C13: =$C$7*(1+$C$10)^$C$9/(1+$C$8)^$C$9 -> 7440.9391
B14: Necesitarás para comprar lo mismo que hoy | C14: =$C$7*(1+$C$8)^$C$9 -> 13439.164
B15: Poder de compra que pierdes (o ganas, si sale negativo) | C15: =1-$C$13/$C$7 -> 0.25590609
B16: Subida total de los precios | C16: =(1+$C$8)^$C$9-1 -> 0.34391638
B17: Poder de compra que pierdes, en dinero de hoy | C17: =$C$7-$C$13 -> 2559.0609
B18: Los precios se duplican en (años) | C18: =IF($C$8>0,LN(2)/LN(1+$C$8),"") -> 23.449772
B19: Tendrás (sin descontar la inflación) | C19: =$C$7*(1+$C$10)^$C$9 -> 10000
B20: Rentabilidad real al año | C20: =(1+$C$10)/(1+$C$8)-1 -> -0.029126214
B21: Rentabilidad mínima para no perder | C21: =$C$8 -> 0.03

Sheet Año a año
B2: Año a año
B4: Plantilla de skilio.com/calculadoras/inflacion/
A5: Año | B5: Lo que cuesta lo que hoy compras con tu dinero | C5: Tu dinero | D5: Tu dinero, en dinero de hoy
A6: =IF(0<='Calculadora'!$C$9,0,"") -> 0 | B6: =IF(A6="","",'Calculadora'!$C$7*(1+'Calculadora'!$C$8)^A6) -> 10000 | C6: =IF(A6="","",'Calculadora'!$C$7*(1+'Calculadora'!$C$10)^A6) -> 10000 | D6: =IF(A6="","",C6/(1+'Calculadora'!$C$8)^A6) -> 10000
A7: =IF(1<='Calculadora'!$C$9,1,"") -> 1 | B7: =IF(A7="","",'Calculadora'!$C$7*(1+'Calculadora'!$C$8)^A7) -> 10300 | C7: =IF(A7="","",'Calculadora'!$C$7*(1+'Calculadora'!$C$10)^A7) -> 10000 | D7: =IF(A7="","",C7/(1+'Calculadora'!$C$8)^A7) -> 9708.7379
A8: =IF(2<='Calculadora'!$C$9,2,"") -> 2 | B8: =IF(A8="","",'Calculadora'!$C$7*(1+'Calculadora'!$C$8)^A8) -> 10609 | C8: =IF(A8="","",'Calculadora'!$C$7*(1+'Calculadora'!$C$10)^A8) -> 10000 | D8: =IF(A8="","",C8/(1+'Calculadora'!$C$8)^A8) -> 9425.9591
A9: =IF(3<='Calculadora'!$C$9,3,"") -> 3 | B9: =IF(A9="","",'Calculadora'!$C$7*(1+'Calculadora'!$C$8)^A9) -> 10927.27 | C9: =IF(A9="","",'Calculadora'!$C$7*(1+'Calculadora'!$C$10)^A9) -> 10000 | D9: =IF(A9="","",C9/(1+'Calculadora'!$C$8)^A9) -> 9151.4166
A10: =IF(4<='Calculadora'!$C$9,4,"") -> 4 | B10: =IF(A10="","",'Calculadora'!$C$7*(1+'Calculadora'!$C$8)^A10) -> 11255.088 | C10: =IF(A10="","",'Calculadora'!$C$7*(1+'Calculadora'!$C$10)^A10) -> 10000 | D10: =IF(A10="","",C10/(1+'Calculadora'!$C$8)^A10) -> 8884.8705
A11: =IF(5<='Calculadora'!$C$9,5,"") -> 5 | B11: =IF(A11="","",'Calculadora'!$C$7*(1+'Calculadora'!$C$8)^A11) -> 11592.741 | C11: =IF(A11="","",'Calculadora'!$C$7*(1+'Calculadora'!$C$10)^A11) -> 10000 | D11: =IF(A11="","",C11/(1+'Calculadora'!$C$8)^A11) -> 8626.0878
A12: =IF(6<='Calculadora'!$C$9,6,"") -> 6 | B12: =IF(A12="","",'Calculadora'!$C$7*(1+'Calculadora'!$C$8)^A12) -> 11940.523 | C12: =IF(A12="","",'Calculadora'!$C$7*(1+'Calculadora'!$C$10)^A12) -> 10000 | D12: =IF(A12="","",C12/(1+'Calculadora'!$C$8)^A12) -> 8374.8426
A13: =IF(7<='Calculadora'!$C$9,7,"") -> 7 | B13: =IF(A13="","",'Calculadora'!$C$7*(1+'Calculadora'!$C$8)^A13) -> 12298.739 | C13: =IF(A13="","",'Calculadora'!$C$7*(1+'Calculadora'!$C$10)^A13) -> 10000 | D13: =IF(A13="","",C13/(1+'Calculadora'!$C$8)^A13) -> 8130.9151
A14: =IF(8<='Calculadora'!$C$9,8,"") -> 8 | B14: =IF(A14="","",'Calculadora'!$C$7*(1+'Calculadora'!$C$8)^A14) -> 12667.701 | C14: =IF(A14="","",'Calculadora'!$C$7*(1+'Calculadora'!$C$10)^A14) -> 10000 | D14: =IF(A14="","",C14/(1+'Calculadora'!$C$8)^A14) -> 7894.0923
A15: =IF(9<='Calculadora'!$C$9,9,"") -> 9 | B15: =IF(A15="","",'Calculadora'!$C$7*(1+'Calculadora'!$C$8)^A15) -> 13047.732 | C15: =IF(A15="","",'Calculadora'!$C$7*(1+'Calculadora'!$C$10)^A15) -> 10000 | D15: =IF(A15="","",C15/(1+'Calculadora'!$C$8)^A15) -> 7664.1673
A16: =IF(10<='Calculadora'!$C$9,10,"") -> 10 | B16: =IF(A16="","",'Calculadora'!$C$7*(1+'Calculadora'!$C$8)^A16) -> 13439.164 | C16: =IF(A16="","",'Calculadora'!$C$7*(1+'Calculadora'!$C$10)^A16) -> 10000 | D16: =IF(A16="","",C16/(1+'Calculadora'!$C$8)^A16) -> 7440.9391
A17: =IF(11<='Calculadora'!$C$9,11,"") | B17: =IF(A17="","",'Calculadora'!$C$7*(1+'Calculadora'!$C$8)^A17) | C17: =IF(A17="","",'Calculadora'!$C$7*(1+'Calculadora'!$C$10)^A17) | D17: =IF(A17="","",C17/(1+'Calculadora'!$C$8)^A17)
A18: =IF(12<='Calculadora'!$C$9,12,"") | B18: =IF(A18="","",'Calculadora'!$C$7*(1+'Calculadora'!$C$8)^A18) | C18: =IF(A18="","",'Calculadora'!$C$7*(1+'Calculadora'!$C$10)^A18) | D18: =IF(A18="","",C18/(1+'Calculadora'!$C$8)^A18)
A19: =IF(13<='Calculadora'!$C$9,13,"") | B19: =IF(A19="","",'Calculadora'!$C$7*(1+'Calculadora'!$C$8)^A19) | C19: =IF(A19="","",'Calculadora'!$C$7*(1+'Calculadora'!$C$10)^A19) | D19: =IF(A19="","",C19/(1+'Calculadora'!$C$8)^A19)
A20: =IF(14<='Calculadora'!$C$9,14,"") | B20: =IF(A20="","",'Calculadora'!$C$7*(1+'Calculadora'!$C$8)^A20) | C20: =IF(A20="","",'Calculadora'!$C$7*(1+'Calculadora'!$C$10)^A20) | D20: =IF(A20="","",C20/(1+'Calculadora'!$C$8)^A20)
A21: =IF(15<='Calculadora'!$C$9,15,"") | B21: =IF(A21="","",'Calculadora'!$C$7*(1+'Calculadora'!$C$8)^A21) | C21: =IF(A21="","",'Calculadora'!$C$7*(1+'Calculadora'!$C$10)^A21) | D21: =IF(A21="","",C21/(1+'Calculadora'!$C$8)^A21)
A22: =IF(16<='Calculadora'!$C$9,16,"") | B22: =IF(A22="","",'Calculadora'!$C$7*(1+'Calculadora'!$C$8)^A22) | C22: =IF(A22="","",'Calculadora'!$C$7*(1+'Calculadora'!$C$10)^A22) | D22: =IF(A22="","",C22/(1+'Calculadora'!$C$8)^A22)
A23: =IF(17<='Calculadora'!$C$9,17,"") | B23: =IF(A23="","",'Calculadora'!$C$7*(1+'Calculadora'!$C$8)^A23) | C23: =IF(A23="","",'Calculadora'!$C$7*(1+'Calculadora'!$C$10)^A23) | D23: =IF(A23="","",C23/(1+'Calculadora'!$C$8)^A23)
A24: =IF(18<='Calculadora'!$C$9,18,"") | B24: =IF(A24="","",'Calculadora'!$C$7*(1+'Calculadora'!$C$8)^A24) | C24: =IF(A24="","",'Calculadora'!$C$7*(1+'Calculadora'!$C$10)^A24) | D24: =IF(A24="","",C24/(1+'Calculadora'!$C$8)^A24)
A25: =IF(19<='Calculadora'!$C$9,19,"") | B25: =IF(A25="","",'Calculadora'!$C$7*(1+'Calculadora'!$C$8)^A25) | C25: =IF(A25="","",'Calculadora'!$C$7*(1+'Calculadora'!$C$10)^A25) | D25: =IF(A25="","",C25/(1+'Calculadora'!$C$8)^A25)
A26: =IF(20<='Calculadora'!$C$9,20,"") | B26: =IF(A26="","",'Calculadora'!$C$7*(1+'Calculadora'!$C$8)^A26) | C26: =IF(A26="","",'Calculadora'!$C$7*(1+'Calculadora'!$C$10)^A26) | D26: =IF(A26="","",C26/(1+'Calculadora'!$C$8)^A26)
A27: =IF(21<='Calculadora'!$C$9,21,"") | B27: =IF(A27="","",'Calculadora'!$C$7*(1+'Calculadora'!$C$8)^A27) | C27: =IF(A27="","",'Calculadora'!$C$7*(1+'Calculadora'!$C$10)^A27) | D27: =IF(A27="","",C27/(1+'Calculadora'!$C$8)^A27)
A28: =IF(22<='Calculadora'!$C$9,22,"") | B28: =IF(A28="","",'Calculadora'!$C$7*(1+'Calculadora'!$C$8)^A28) | C28: =IF(A28="","",'Calculadora'!$C$7*(1+'Calculadora'!$C$10)^A28) | D28: =IF(A28="","",C28/(1+'Calculadora'!$C$8)^A28)
A29: =IF(23<='Calculadora'!$C$9,23,"") | B29: =IF(A29="","",'Calculadora'!$C$7*(1+'Calculadora'!$C$8)^A29) | C29: =IF(A29="","",'Calculadora'!$C$7*(1+'Calculadora'!$C$10)^A29) | D29: =IF(A29="","",C29/(1+'Calculadora'!$C$8)^A29)
A30: =IF(24<='Calculadora'!$C$9,24,"") | B30: =IF(A30="","",'Calculadora'!$C$7*(1+'Calculadora'!$C$8)^A30) | C30: =IF(A30="","",'Calculadora'!$C$7*(1+'Calculadora'!$C$10)^A30) | D30: =IF(A30="","",C30/(1+'Calculadora'!$C$8)^A30)
A31: =IF(25<='Calculadora'!$C$9,25,"") | B31: =IF(A31="","",'Calculadora'!$C$7*(1+'Calculadora'!$C$8)^A31) | C31: =IF(A31="","",'Calculadora'!$C$7*(1+'Calculadora'!$C$10)^A31) | D31: =IF(A31="","",C31/(1+'Calculadora'!$C$8)^A31)
A32: =IF(26<='Calculadora'!$C$9,26,"") | B32: =IF(A32="","",'Calculadora'!$C$7*(1+'Calculadora'!$C$8)^A32) | C32: =IF(A32="","",'Calculadora'!$C$7*(1+'Calculadora'!$C$10)^A32) | D32: =IF(A32="","",C32/(1+'Calculadora'!$C$8)^A32)
A33: =IF(27<='Calculadora'!$C$9,27,"") | B33: =IF(A33="","",'Calculadora'!$C$7*(1+'Calculadora'!$C$8)^A33) | C33: =IF(A33="","",'Calculadora'!$C$7*(1+'Calculadora'!$C$10)^A33) | D33: =IF(A33="","",C33/(1+'Calculadora'!$C$8)^A33)
A34: =IF(28<='Calculadora'!$C$9,28,"") | B34: =IF(A34="","",'Calculadora'!$C$7*(1+'Calculadora'!$C$8)^A34) | C34: =IF(A34="","",'Calculadora'!$C$7*(1+'Calculadora'!$C$10)^A34) | D34: =IF(A34="","",C34/(1+'Calculadora'!$C$8)^A34)
A35: =IF(29<='Calculadora'!$C$9,29,"") | B35: =IF(A35="","",'Calculadora'!$C$7*(1+'Calculadora'!$C$8)^A35) | C35: =IF(A35="","",'Calculadora'!$C$7*(1+'Calculadora'!$C$10)^A35) | D35: =IF(A35="","",C35/(1+'Calculadora'!$C$8)^A35)
A36: =IF(30<='Calculadora'!$C$9,30,"") | B36: =IF(A36="","",'Calculadora'!$C$7*(1+'Calculadora'!$C$8)^A36) | C36: =IF(A36="","",'Calculadora'!$C$7*(1+'Calculadora'!$C$10)^A36) | D36: =IF(A36="","",C36/(1+'Calculadora'!$C$8)^A36)
A37: =IF(31<='Calculadora'!$C$9,31,"") | B37: =IF(A37="","",'Calculadora'!$C$7*(1+'Calculadora'!$C$8)^A37) | C37: =IF(A37="","",'Calculadora'!$C$7*(1+'Calculadora'!$C$10)^A37) | D37: =IF(A37="","",C37/(1+'Calculadora'!$C$8)^A37)
A38: =IF(32<='Calculadora'!$C$9,32,"") | B38: =IF(A38="","",'Calculadora'!$C$7*(1+'Calculadora'!$C$8)^A38) | C38: =IF(A38="","",'Calculadora'!$C$7*(1+'Calculadora'!$C$10)^A38) | D38: =IF(A38="","",C38/(1+'Calculadora'!$C$8)^A38)
A39: =IF(33<='Calculadora'!$C$9,33,"") | B39: =IF(A39="","",'Calculadora'!$C$7*(1+'Calculadora'!$C$8)^A39) | C39: =IF(A39="","",'Calculadora'!$C$7*(1+'Calculadora'!$C$10)^A39) | D39: =IF(A39="","",C39/(1+'Calculadora'!$C$8)^A39)
A40: =IF(34<='Calculadora'!$C$9,34,"") | B40: =IF(A40="","",'Calculadora'!$C$7*(1+'Calculadora'!$C$8)^A40) | C40: =IF(A40="","",'Calculadora'!$C$7*(1+'Calculadora'!$C$10)^A40) | D40: =IF(A40="","",C40/(1+'Calculadora'!$C$8)^A40)
A41: =IF(35<='Calculadora'!$C$9,35,"") | B41: =IF(A41="","",'Calculadora'!$C$7*(1+'Calculadora'!$C$8)^A41) | C41: =IF(A41="","",'Calculadora'!$C$7*(1+'Calculadora'!$C$10)^A41) | D41: =IF(A41="","",C41/(1+'Calculadora'!$C$8)^A41)
A42: =IF(36<='Calculadora'!$C$9,36,"") | B42: =IF(A42="","",'Calculadora'!$C$7*(1+'Calculadora'!$C$8)^A42) | C42: =IF(A42="","",'Calculadora'!$C$7*(1+'Calculadora'!$C$10)^A42) | D42: =IF(A42="","",C42/(1+'Calculadora'!$C$8)^A42)
...

Sheet Cómo se usa
B2: Cómo se usa la plantilla de inflación
B4: 1. Escribe una cantidad, la inflación media que esperas y los años.
B5: 2. «En dinero de hoy» quiere decir lo que podrás comprar con ese dinero, a precios de ahora.
B6: 3. Si tu dinero da intereses, escribe cuánto rinde al año para ver si le gana a la inflación.
B7: 4. En «Año a año» ves la evolución y el gráfico de los primeros 30 años.
B9: Usa la inflación oficial de tu país o la media de los últimos años. Muchos bancos centrales buscan que ronde el 2 %.
B10: Las celdas naranjas son las que puedes cambiar. Las demás llevan fórmulas: si las borras, la plantilla deja de calcular.
B11: Funciona en Excel, en Google Sheets (súbela a Drive y ábrela con Hojas de cálculo) y en LibreOffice. No tiene macros.
B12: Las cifras no llevan símbolo de moneda: sirve para euros, pesos, dólares o cualquier otra.
B13: Es una estimación orientativa con las fórmulas habituales. Para una decisión importante, compara con la oferta o el contrato reales.
B15: Calculadora online con estos mismos cálculos: skilio.com/calculadoras/inflacion/
