Workbook

Sheet Calculadora
B2: Proyección de ventas | D2: Plantilla de skilio.com/calculadoras/proyeccion-de-ventas/
B3: Cuánto vas a vender en los próximos meses si tus ventas crecen y si llegas a tu objetivo.
B4: Cambia las celdas naranjas. Todo lo demás se calcula solo.
B6: Tus ventas
B7: Ventas de tu último mes | C7: 10000 | D7: Lo que vendiste en un mes normal. Si el último fue de temporada, pon la media de los últimos 3 meses. | F7: Crecimiento al mes | G7: Ventas del periodo | H7: ¿Llegas al objetivo?
B8: Cuánto crecen tus ventas cada mes | C8: 0.03 | D8: Sobre el mes anterior. Si bajan, un número negativo. | F8: 0 | G8: =$C$7*SUMPRODUCT((1+F8)^'Mes a mes'!$A$7:$A$42*('Mes a mes'!$A$7:$A$42<=$C$9)*'Mes a mes'!$C$7:$C$42) -> 120000 | H8: =IF($C$10>0,IF(G8>=$C$10,"Sí","No"),"") -> No
B9: Meses que quieres proyectar | C9: 12 | D9: Elige de la lista: 3, 6, 12, 24 o 36. | F9: 0.01 | G9: =$C$7*SUMPRODUCT((1+F9)^'Mes a mes'!$A$7:$A$42*('Mes a mes'!$A$7:$A$42<=$C$9)*'Mes a mes'!$C$7:$C$42) -> 128093.28 | H9: =IF($C$10>0,IF(G9>=$C$10,"Sí","No"),"") -> No
B10: Objetivo de ventas de todo el periodo | C10: 150000 | D10: Déjalo en 0 si no tienes objetivo. | F10: 0.02 | G10: =$C$7*SUMPRODUCT((1+F10)^'Mes a mes'!$A$7:$A$42*('Mes a mes'!$A$7:$A$42<=$C$9)*'Mes a mes'!$C$7:$C$42) -> 136803.32 | H10: =IF($C$10>0,IF(G10>=$C$10,"Sí","No"),"") -> No
B11: Mes en que empieza la proyección | C11: Enero | D11: Solo importa si pones meses de temporada en la hoja «Temporada». | F11: 0.03 | G11: =$C$7*SUMPRODUCT((1+F11)^'Mes a mes'!$A$7:$A$42*('Mes a mes'!$A$7:$A$42<=$C$9)*'Mes a mes'!$C$7:$C$42) -> 146177.9 | H11: =IF($C$10>0,IF(G11>=$C$10,"Sí","No"),"") -> No
F12: 0.04 | G12: =$C$7*SUMPRODUCT((1+F12)^'Mes a mes'!$A$7:$A$42*('Mes a mes'!$A$7:$A$42<=$C$9)*'Mes a mes'!$C$7:$C$42) -> 156268.38 | H12: =IF($C$10>0,IF(G12>=$C$10,"Sí","No"),"") -> Sí
B13: Resultados | F13: 0.05 | G13: =$C$7*SUMPRODUCT((1+F13)^'Mes a mes'!$A$7:$A$42*('Mes a mes'!$A$7:$A$42<=$C$9)*'Mes a mes'!$C$7:$C$42) -> 167129.83 | H13: =IF($C$10>0,IF(G13>=$C$10,"Sí","No"),"") -> Sí
B14: Ventas proyectadas del periodo | C14: =SUM('Mes a mes'!$D$7:$D$42) -> 146177.9 | F14: 0.06 | G14: =$C$7*SUMPRODUCT((1+F14)^'Mes a mes'!$A$7:$A$42*('Mes a mes'!$A$7:$A$42<=$C$9)*'Mes a mes'!$C$7:$C$42) -> 178821.38 | H14: =IF($C$10>0,IF(G14>=$C$10,"Sí","No"),"") -> Sí
B15: Ventas del último mes | C15: =INDEX('Mes a mes'!$D$7:$D$42,$C$9) -> 14257.609 | F15: 0.07 | G15: =$C$7*SUMPRODUCT((1+F15)^'Mes a mes'!$A$7:$A$42*('Mes a mes'!$A$7:$A$42<=$C$9)*'Mes a mes'!$C$7:$C$42) -> 191406.43 | H15: =IF($C$10>0,IF(G15>=$C$10,"Sí","No"),"") -> Sí
B16: Te sobran (+) o te faltan (-) sobre el objetivo | C16: =IF($C$10>0,$C$14-$C$10,"") -> -3822.0955 | D16: Solo sale si hay objetivo. | F16: 0.08 | G16: =$C$7*SUMPRODUCT((1+F16)^'Mes a mes'!$A$7:$A$42*('Mes a mes'!$A$7:$A$42<=$C$9)*'Mes a mes'!$C$7:$C$42) -> 204952.97 | H16: =IF($C$10>0,IF(G16>=$C$10,"Sí","No"),"") -> Sí
B17: Ventas del mes 1 | C17: ='Mes a mes'!$D$7 -> 10300 | F17: 0.09 | G17: =$C$7*SUMPRODUCT((1+F17)^'Mes a mes'!$A$7:$A$42*('Mes a mes'!$A$7:$A$42<=$C$9)*'Mes a mes'!$C$7:$C$42) -> 219533.85 | H17: =IF($C$10>0,IF(G17>=$C$10,"Sí","No"),"") -> Sí
B18: Ventas medias al mes | C18: =$C$14/$C$9 -> 12181.492 | F18: 0.1 | G18: =$C$7*SUMPRODUCT((1+F18)^'Mes a mes'!$A$7:$A$42*('Mes a mes'!$A$7:$A$42<=$C$9)*'Mes a mes'!$C$7:$C$42) -> 235227.12 | H18: =IF($C$10>0,IF(G18>=$C$10,"Sí","No"),"") -> Sí
B19: Días del periodo | C19: =($C$9*365/12) -> 365 | D19: 12 meses son 365 días. | F19: Qué crecimiento mensual necesitas para llegar al objetivo.
B20: Ventas por día de media | C20: =$C$14/($C$9*365/12) -> 400.48741
B21: Si no crecieras (mismas ventas cada mes) | C21: =SUM('Mes a mes'!$F$7:$F$42) -> 120000
B22: Lo que suma el crecimiento (resta, si es negativo) | C22: =$C$14-$C$21 -> 26177.904
B23: Crecimiento equivalente en un año | C23: =(1+$C$8)^12-1 -> 0.42576089
B24: Parte del objetivo que alcanzas | C24: =IF($C$10>0,$C$14/$C$10,"") -> 0.97451936
B25: Ventas por día para llegar al objetivo | C25: =IF($C$10>0,$C$10/($C$9*365/12),"") -> 410.9589
B26: Ventas medias al mes para llegar al objetivo | C26: =IF($C$10>0,$C$10/$C$9,"") -> 12500
B27: Mes en que llegas al objetivo | C27: =IF($C$10>0,IF(COUNT('Mes a mes'!$H$7:$H$42)=0,"No llegas en el periodo",MIN('Mes a mes'!$H$7:$H$42)),"") -> No llegas en el periodo

Sheet Temporada
B2: Meses en que vendes más o menos de lo normal
B3: Pon un porcentaje positivo si ese mes vendes más (30 es un 30 % más) y negativo si vendes menos. Con 0 no cambia nada.
B4: Plantilla de skilio.com/calculadoras/proyeccion-de-ventas/
B6: Mes | C6: Más o menos ventas
B7: Enero | C7: 0
B8: Febrero | C8: 0
B9: Marzo | C9: 0
B10: Abril | C10: 0
B11: Mayo | C11: 0
B12: Junio | C12: 0
B13: Julio | C13: 0
B14: Agosto | C14: 0
B15: Septiembre | C15: 0
B16: Octubre | C16: 0
B17: Noviembre | C17: 0
B18: Diciembre | C18: 0

Sheet Mes a mes
B2: Ventas previstas mes a mes
B4: Plantilla de skilio.com/calculadoras/proyeccion-de-ventas/
A6: Mes | B6: Mes del año | C6: Factor de temporada | D6: Ventas del mes | E6: Ventas acumuladas | F6: Sin crecer | G6: Del objetivo | H6: Mes en que llegas
A7: 1 | B7: =IF(A7>'Calculadora'!$C$9,"",INDEX('Temporada'!$B$7:$B$18,MOD(MATCH('Calculadora'!$C$11,'Temporada'!$B$7:$B$18,0)-1+A7-1,12)+1)) -> Enero | C7: =MAX(0,1+INDEX('Temporada'!$C$7:$C$18,MOD(MATCH('Calculadora'!$C$11,'Temporada'!$B$7:$B$18,0)-1+A7-1,12)+1)) -> 1 | D7: =IF(A7>'Calculadora'!$C$9,"",'Calculadora'!$C$7*(1+'Calculadora'!$C$8)^A7*C7) -> 10300 | E7: =IF(A7>'Calculadora'!$C$9,"",SUM($D$7:D7)) -> 10300 | F7: =IF(A7>'Calculadora'!$C$9,"",'Calculadora'!$C$7*C7) -> 10000 | G7: =IF(OR(A7>'Calculadora'!$C$9,'Calculadora'!$C$10<=0),"",E7/'Calculadora'!$C$10) -> 0.068666667 | H7: =IF(AND(A7<='Calculadora'!$C$9,'Calculadora'!$C$10>0,E7>='Calculadora'!$C$10-0.000001),A7,"")
A8: 2 | B8: =IF(A8>'Calculadora'!$C$9,"",INDEX('Temporada'!$B$7:$B$18,MOD(MATCH('Calculadora'!$C$11,'Temporada'!$B$7:$B$18,0)-1+A8-1,12)+1)) -> Febrero | C8: =MAX(0,1+INDEX('Temporada'!$C$7:$C$18,MOD(MATCH('Calculadora'!$C$11,'Temporada'!$B$7:$B$18,0)-1+A8-1,12)+1)) -> 1 | D8: =IF(A8>'Calculadora'!$C$9,"",'Calculadora'!$C$7*(1+'Calculadora'!$C$8)^A8*C8) -> 10609 | E8: =IF(A8>'Calculadora'!$C$9,"",SUM($D$7:D8)) -> 20909 | F8: =IF(A8>'Calculadora'!$C$9,"",'Calculadora'!$C$7*C8) -> 10000 | G8: =IF(OR(A8>'Calculadora'!$C$9,'Calculadora'!$C$10<=0),"",E8/'Calculadora'!$C$10) -> 0.13939333 | H8: =IF(AND(A8<='Calculadora'!$C$9,'Calculadora'!$C$10>0,E8>='Calculadora'!$C$10-0.000001),A8,"")
A9: 3 | B9: =IF(A9>'Calculadora'!$C$9,"",INDEX('Temporada'!$B$7:$B$18,MOD(MATCH('Calculadora'!$C$11,'Temporada'!$B$7:$B$18,0)-1+A9-1,12)+1)) -> Marzo | C9: =MAX(0,1+INDEX('Temporada'!$C$7:$C$18,MOD(MATCH('Calculadora'!$C$11,'Temporada'!$B$7:$B$18,0)-1+A9-1,12)+1)) -> 1 | D9: =IF(A9>'Calculadora'!$C$9,"",'Calculadora'!$C$7*(1+'Calculadora'!$C$8)^A9*C9) -> 10927.27 | E9: =IF(A9>'Calculadora'!$C$9,"",SUM($D$7:D9)) -> 31836.27 | F9: =IF(A9>'Calculadora'!$C$9,"",'Calculadora'!$C$7*C9) -> 10000 | G9: =IF(OR(A9>'Calculadora'!$C$9,'Calculadora'!$C$10<=0),"",E9/'Calculadora'!$C$10) -> 0.2122418 | H9: =IF(AND(A9<='Calculadora'!$C$9,'Calculadora'!$C$10>0,E9>='Calculadora'!$C$10-0.000001),A9,"")
A10: 4 | B10: =IF(A10>'Calculadora'!$C$9,"",INDEX('Temporada'!$B$7:$B$18,MOD(MATCH('Calculadora'!$C$11,'Temporada'!$B$7:$B$18,0)-1+A10-1,12)+1)) -> Abril | C10: =MAX(0,1+INDEX('Temporada'!$C$7:$C$18,MOD(MATCH('Calculadora'!$C$11,'Temporada'!$B$7:$B$18,0)-1+A10-1,12)+1)) -> 1 | D10: =IF(A10>'Calculadora'!$C$9,"",'Calculadora'!$C$7*(1+'Calculadora'!$C$8)^A10*C10) -> 11255.088 | E10: =IF(A10>'Calculadora'!$C$9,"",SUM($D$7:D10)) -> 43091.358 | F10: =IF(A10>'Calculadora'!$C$9,"",'Calculadora'!$C$7*C10) -> 10000 | G10: =IF(OR(A10>'Calculadora'!$C$9,'Calculadora'!$C$10<=0),"",E10/'Calculadora'!$C$10) -> 0.28727572 | H10: =IF(AND(A10<='Calculadora'!$C$9,'Calculadora'!$C$10>0,E10>='Calculadora'!$C$10-0.000001),A10,"")
A11: 5 | B11: =IF(A11>'Calculadora'!$C$9,"",INDEX('Temporada'!$B$7:$B$18,MOD(MATCH('Calculadora'!$C$11,'Temporada'!$B$7:$B$18,0)-1+A11-1,12)+1)) -> Mayo | C11: =MAX(0,1+INDEX('Temporada'!$C$7:$C$18,MOD(MATCH('Calculadora'!$C$11,'Temporada'!$B$7:$B$18,0)-1+A11-1,12)+1)) -> 1 | D11: =IF(A11>'Calculadora'!$C$9,"",'Calculadora'!$C$7*(1+'Calculadora'!$C$8)^A11*C11) -> 11592.741 | E11: =IF(A11>'Calculadora'!$C$9,"",SUM($D$7:D11)) -> 54684.099 | F11: =IF(A11>'Calculadora'!$C$9,"",'Calculadora'!$C$7*C11) -> 10000 | G11: =IF(OR(A11>'Calculadora'!$C$9,'Calculadora'!$C$10<=0),"",E11/'Calculadora'!$C$10) -> 0.36456066 | H11: =IF(AND(A11<='Calculadora'!$C$9,'Calculadora'!$C$10>0,E11>='Calculadora'!$C$10-0.000001),A11,"")
A12: 6 | B12: =IF(A12>'Calculadora'!$C$9,"",INDEX('Temporada'!$B$7:$B$18,MOD(MATCH('Calculadora'!$C$11,'Temporada'!$B$7:$B$18,0)-1+A12-1,12)+1)) -> Junio | C12: =MAX(0,1+INDEX('Temporada'!$C$7:$C$18,MOD(MATCH('Calculadora'!$C$11,'Temporada'!$B$7:$B$18,0)-1+A12-1,12)+1)) -> 1 | D12: =IF(A12>'Calculadora'!$C$9,"",'Calculadora'!$C$7*(1+'Calculadora'!$C$8)^A12*C12) -> 11940.523 | E12: =IF(A12>'Calculadora'!$C$9,"",SUM($D$7:D12)) -> 66624.622 | F12: =IF(A12>'Calculadora'!$C$9,"",'Calculadora'!$C$7*C12) -> 10000 | G12: =IF(OR(A12>'Calculadora'!$C$9,'Calculadora'!$C$10<=0),"",E12/'Calculadora'!$C$10) -> 0.44416415 | H12: =IF(AND(A12<='Calculadora'!$C$9,'Calculadora'!$C$10>0,E12>='Calculadora'!$C$10-0.000001),A12,"")
A13: 7 | B13: =IF(A13>'Calculadora'!$C$9,"",INDEX('Temporada'!$B$7:$B$18,MOD(MATCH('Calculadora'!$C$11,'Temporada'!$B$7:$B$18,0)-1+A13-1,12)+1)) -> Julio | C13: =MAX(0,1+INDEX('Temporada'!$C$7:$C$18,MOD(MATCH('Calculadora'!$C$11,'Temporada'!$B$7:$B$18,0)-1+A13-1,12)+1)) -> 1 | D13: =IF(A13>'Calculadora'!$C$9,"",'Calculadora'!$C$7*(1+'Calculadora'!$C$8)^A13*C13) -> 12298.739 | E13: =IF(A13>'Calculadora'!$C$9,"",SUM($D$7:D13)) -> 78923.36 | F13: =IF(A13>'Calculadora'!$C$9,"",'Calculadora'!$C$7*C13) -> 10000 | G13: =IF(OR(A13>'Calculadora'!$C$9,'Calculadora'!$C$10<=0),"",E13/'Calculadora'!$C$10) -> 0.52615574 | H13: =IF(AND(A13<='Calculadora'!$C$9,'Calculadora'!$C$10>0,E13>='Calculadora'!$C$10-0.000001),A13,"")
A14: 8 | B14: =IF(A14>'Calculadora'!$C$9,"",INDEX('Temporada'!$B$7:$B$18,MOD(MATCH('Calculadora'!$C$11,'Temporada'!$B$7:$B$18,0)-1+A14-1,12)+1)) -> Agosto | C14: =MAX(0,1+INDEX('Temporada'!$C$7:$C$18,MOD(MATCH('Calculadora'!$C$11,'Temporada'!$B$7:$B$18,0)-1+A14-1,12)+1)) -> 1 | D14: =IF(A14>'Calculadora'!$C$9,"",'Calculadora'!$C$7*(1+'Calculadora'!$C$8)^A14*C14) -> 12667.701 | E14: =IF(A14>'Calculadora'!$C$9,"",SUM($D$7:D14)) -> 91591.061 | F14: =IF(A14>'Calculadora'!$C$9,"",'Calculadora'!$C$7*C14) -> 10000 | G14: =IF(OR(A14>'Calculadora'!$C$9,'Calculadora'!$C$10<=0),"",E14/'Calculadora'!$C$10) -> 0.61060708 | H14: =IF(AND(A14<='Calculadora'!$C$9,'Calculadora'!$C$10>0,E14>='Calculadora'!$C$10-0.000001),A14,"")
A15: 9 | B15: =IF(A15>'Calculadora'!$C$9,"",INDEX('Temporada'!$B$7:$B$18,MOD(MATCH('Calculadora'!$C$11,'Temporada'!$B$7:$B$18,0)-1+A15-1,12)+1)) -> Septiembre | C15: =MAX(0,1+INDEX('Temporada'!$C$7:$C$18,MOD(MATCH('Calculadora'!$C$11,'Temporada'!$B$7:$B$18,0)-1+A15-1,12)+1)) -> 1 | D15: =IF(A15>'Calculadora'!$C$9,"",'Calculadora'!$C$7*(1+'Calculadora'!$C$8)^A15*C15) -> 13047.732 | E15: =IF(A15>'Calculadora'!$C$9,"",SUM($D$7:D15)) -> 104638.79 | F15: =IF(A15>'Calculadora'!$C$9,"",'Calculadora'!$C$7*C15) -> 10000 | G15: =IF(OR(A15>'Calculadora'!$C$9,'Calculadora'!$C$10<=0),"",E15/'Calculadora'!$C$10) -> 0.69759195 | H15: =IF(AND(A15<='Calculadora'!$C$9,'Calculadora'!$C$10>0,E15>='Calculadora'!$C$10-0.000001),A15,"")
A16: 10 | B16: =IF(A16>'Calculadora'!$C$9,"",INDEX('Temporada'!$B$7:$B$18,MOD(MATCH('Calculadora'!$C$11,'Temporada'!$B$7:$B$18,0)-1+A16-1,12)+1)) -> Octubre | C16: =MAX(0,1+INDEX('Temporada'!$C$7:$C$18,MOD(MATCH('Calculadora'!$C$11,'Temporada'!$B$7:$B$18,0)-1+A16-1,12)+1)) -> 1 | D16: =IF(A16>'Calculadora'!$C$9,"",'Calculadora'!$C$7*(1+'Calculadora'!$C$8)^A16*C16) -> 13439.164 | E16: =IF(A16>'Calculadora'!$C$9,"",SUM($D$7:D16)) -> 118077.96 | F16: =IF(A16>'Calculadora'!$C$9,"",'Calculadora'!$C$7*C16) -> 10000 | G16: =IF(OR(A16>'Calculadora'!$C$9,'Calculadora'!$C$10<=0),"",E16/'Calculadora'!$C$10) -> 0.78718638 | H16: =IF(AND(A16<='Calculadora'!$C$9,'Calculadora'!$C$10>0,E16>='Calculadora'!$C$10-0.000001),A16,"")
A17: 11 | B17: =IF(A17>'Calculadora'!$C$9,"",INDEX('Temporada'!$B$7:$B$18,MOD(MATCH('Calculadora'!$C$11,'Temporada'!$B$7:$B$18,0)-1+A17-1,12)+1)) -> Noviembre | C17: =MAX(0,1+INDEX('Temporada'!$C$7:$C$18,MOD(MATCH('Calculadora'!$C$11,'Temporada'!$B$7:$B$18,0)-1+A17-1,12)+1)) -> 1 | D17: =IF(A17>'Calculadora'!$C$9,"",'Calculadora'!$C$7*(1+'Calculadora'!$C$8)^A17*C17) -> 13842.339 | E17: =IF(A17>'Calculadora'!$C$9,"",SUM($D$7:D17)) -> 131920.3 | F17: =IF(A17>'Calculadora'!$C$9,"",'Calculadora'!$C$7*C17) -> 10000 | G17: =IF(OR(A17>'Calculadora'!$C$9,'Calculadora'!$C$10<=0),"",E17/'Calculadora'!$C$10) -> 0.87946864 | H17: =IF(AND(A17<='Calculadora'!$C$9,'Calculadora'!$C$10>0,E17>='Calculadora'!$C$10-0.000001),A17,"")
A18: 12 | B18: =IF(A18>'Calculadora'!$C$9,"",INDEX('Temporada'!$B$7:$B$18,MOD(MATCH('Calculadora'!$C$11,'Temporada'!$B$7:$B$18,0)-1+A18-1,12)+1)) -> Diciembre | C18: =MAX(0,1+INDEX('Temporada'!$C$7:$C$18,MOD(MATCH('Calculadora'!$C$11,'Temporada'!$B$7:$B$18,0)-1+A18-1,12)+1)) -> 1 | D18: =IF(A18>'Calculadora'!$C$9,"",'Calculadora'!$C$7*(1+'Calculadora'!$C$8)^A18*C18) -> 14257.609 | E18: =IF(A18>'Calculadora'!$C$9,"",SUM($D$7:D18)) -> 146177.9 | F18: =IF(A18>'Calculadora'!$C$9,"",'Calculadora'!$C$7*C18) -> 10000 | G18: =IF(OR(A18>'Calculadora'!$C$9,'Calculadora'!$C$10<=0),"",E18/'Calculadora'!$C$10) -> 0.97451936 | H18: =IF(AND(A18<='Calculadora'!$C$9,'Calculadora'!$C$10>0,E18>='Calculadora'!$C$10-0.000001),A18,"")
... A42: 36 | B42: =IF(A42>'Calculadora'!$C$9,"",INDEX('Temporada'!$B$7:$B$18,MOD(MATCH('Calculadora'!$C$11,'Temporada'!$B$7:$B$18,0)-1+A42-1,12)+1)) | C42: =MAX(0,1+INDEX('Temporada'!$C$7:$C$18,MOD(MATCH('Calculadora'!$C$11,'Temporada'!$B$7:$B$18,0)-1+A42-1,12)+1)) -> 1 | D42: =IF(A42>'Calculadora'!$C$9,"",'Calculadora'!$C$7*(1+'Calculadora'!$C$8)^A42*C42) | E42: =IF(A42>'Calculadora'!$C$9,"",SUM($D$7:D42)) | F42: =IF(A42>'Calculadora'!$C$9,"",'Calculadora'!$C$7*C42) | G42: =IF(OR(A42>'Calculadora'!$C$9,'Calculadora'!$C$10<=0),"",E42/'Calculadora'!$C$10) | H42: =IF(AND(A42<='Calculadora'!$C$9,'Calculadora'!$C$10>0,E42>='Calculadora'!$C$10-0.000001),A42,"")

Sheet Cómo se usa
B2: Cómo se usa la plantilla de proyección de ventas
B4: 1. En «Calculadora», escribe lo que vendiste el último mes, cuánto crece (o baja) cada mes y cuántos meses quieres proyectar.
B5: 2. Si tienes un objetivo de ventas para todo el periodo, escríbelo. Verás si llegas, en qué mes y cuánto tendrías que vender al día.
B6: 3. Si vendes más o menos en ciertos meses (Navidad, verano…), pon su porcentaje en «Temporada» y elige en qué mes empieza la proyección.
B7: 4. Mira «Mes a mes» para ver las ventas de cada mes, las acumuladas y el gráfico.
B8: 5. La tabla de la derecha de «Calculadora» enseña qué crecimiento mensual necesitas para llegar al objetivo.
B10: Ventas del mes = ventas de hoy × (1 + crecimiento) elevado al número de mes. El crecimiento se suma sobre el mes anterior, no sobre las ventas de hoy.
B11: Es una estimación para planificar, no una promesa: las ventas reales cambian con los precios, la competencia y las temporadas.
B12: Las celdas naranjas son las que puedes cambiar. Las demás llevan fórmulas: si las borras, la plantilla deja de calcular.
B13: Funciona en Excel, en Google Sheets (súbela a Drive y ábrela con Hojas de cálculo) y en LibreOffice. No tiene macros.
B14: Las cifras no llevan símbolo de moneda: sirve para euros, pesos, dólares o cualquier otra.
B15: Es una estimación orientativa con las fórmulas habituales. Para una decisión importante, compara con la oferta o el contrato reales.
B17: Calculadora online con estos mismos cálculos: skilio.com/calculadoras/proyeccion-de-ventas/
